BEGIN:VCALENDAR
VERSION:2.0
PRODID:-//ChamberMaster//Event Calendar 2.0//EN
METHOD:PUBLISH
X-PUBLISHED-TTL:P3D
REFRESH-INTERVAL:P3D
CALSCALE:GREGORIAN
BEGIN:VEVENT
DTSTART:20180113T230000Z
DTEND:20180114T010000Z
X-MICROSOFT-CDO-ALLDAYEVENT:FALSE
SUMMARY:FSA Loan Workshop
DESCRIPTION:Learn about FSA Loans and how to get one! WSU Grays Harbor Extension is partnering with the Young Farmers Coalition and the USDA's Farm Service Agency to host a free workshop on Federal Loan Programs that cater to beginning farmers. Presentations by an FSA loan officer on featured loans as well as a recipient farmer of an FSA loan\, followed by Q&A. A light snack and refreshments will be provided.\n\n\n\nRegister with Kiley either by phone or email: 360-482-2934 kiley.smith2@wsu.edu
X-ALT-DESC;FMTTYPE=text/html:<span style="color: rgb(75\, 79\, 86)\; font-family: Helvetica\, Arial\, sans-serif\; font-size: 14px\; background-color: rgb(255\, 255\, 255)\;">Learn about FSA Loans and how to get one! WSU Grays Harbor Extension is partnering with the Young Farmers Coalition and the USDA&#39\;s Farm Service Agency to host a free workshop on Federal Loan Programs that cater to beginning farmers. Presentations by an FSA loan officer on featured loans as well as a recipient farmer of an FSA loan\, followed by Q&amp\;A. A light snack and refreshments will be provided.</span><br style="color: rgb(75\, 79\, 86)\; font-family: Helvetica\, Arial\, sans-serif\; font-size: 14px\; background-color: rgb(255\, 255\, 255)\;" />\n<br style="color: rgb(75\, 79\, 86)\; font-family: Helvetica\, Arial\, sans-serif\; font-size: 14px\; background-color: rgb(255\, 255\, 255)\;" />\n<span style="color: rgb(75\, 79\, 86)\; font-family: Helvetica\, Arial\, sans-serif\; font-size: 14px\; background-color: rgb(255\, 255\, 255)\;">Register with Kiley either by phone or email: 360-482-2934 kiley.smith2@wsu.edu</span>
LOCATION:WSU Extension Office
UID:e.26.9416
SEQUENCE:3
DTSTAMP:20260425T145523Z
URL:https://chamber.graysharbor.org/events/details/fsa-loan-workshop-9416
END:VEVENT

END:VCALENDAR
