BEGIN:VCALENDAR
VERSION:2.0
PRODID:-//ChamberMaster//Event Calendar 2.0//EN
METHOD:PUBLISH
X-PUBLISHED-TTL:P3D
REFRESH-INTERVAL:P3D
CALSCALE:GREGORIAN
BEGIN:VEVENT
DTSTART:20190519T013000Z
DTEND:20190519T030000Z
X-MICROSOFT-CDO-ALLDAYEVENT:FALSE
SUMMARY:Full Flower Moon Paddle
DESCRIPTION:Let's celebrate the Full Flower Moon with a sunset paddle on the fresh waterways. The 2019 Paddle series will get us through the entire 23 miles of Ocean Shores Fresh Waterways. Meet at the public boat launch at the south end of Lake Minard/Oyhut Canal at 6:30pm so we can hit the water at 7:00pm (sunset is 8:49pm). \n\n\n\nWe will paddle\, as a group\, north on the Oyhut Canal and Lake Minard and continue to explore the two southern canals of the Bell Canal system\, and return to the public boat launch. Round trip will be 4.72 miles.\n\n\n\nThe event is FREE if you have your own equipment\, however\, if you would like to rent equipment from the Boat House regular rental rates apply. Advance reservations are required to guarantee availability at launch site. \n\n\n\nFood\, drink is not provided - please BYOF and BYOD. Alcohol is prohibited from any part of the event.\n\n\n\nSafety: Canoes\, kayaks\, and similar vessels are required to have at least a Type III PFD worn by the occupant(s). Sounding device (i.e. whistle) is highly encouraged.
X-ALT-DESC;FMTTYPE=text/html:<span style="caret-color: rgb(29\, 33\, 41)\; color: rgb(29\, 33\, 41)\; font-family: system-ui\, -apple-system\, BlinkMacSystemFont\, &quot\;.SFNSText-Regular&quot\;\, sans-serif\; font-size: 14px\; white-space: pre-wrap\;">Let&#39\;s celebrate the Full Flower Moon with a sunset paddle on the fresh waterways. The 2019 Paddle series will get us through the entire 23 miles of Ocean Shores Fresh Waterways. Meet at the public boat launch at the south end of Lake Minard/Oyhut Canal at 6:30pm so we can hit the water at 7:00pm (sunset is 8:49pm). </span><br style="caret-color: rgb(29\, 33\, 41)\; color: rgb(29\, 33\, 41)\; font-family: system-ui\, -apple-system\, BlinkMacSystemFont\, &quot\;.SFNSText-Regular&quot\;\, sans-serif\; font-size: 14px\; white-space: pre-wrap\;" />\n<br style="caret-color: rgb(29\, 33\, 41)\; color: rgb(29\, 33\, 41)\; font-family: system-ui\, -apple-system\, BlinkMacSystemFont\, &quot\;.SFNSText-Regular&quot\;\, sans-serif\; font-size: 14px\; white-space: pre-wrap\;" />\n<span style="caret-color: rgb(29\, 33\, 41)\; color: rgb(29\, 33\, 41)\; font-family: system-ui\, -apple-system\, BlinkMacSystemFont\, &quot\;.SFNSText-Regular&quot\;\, sans-serif\; font-size: 14px\; white-space: pre-wrap\;">We will paddle\, as a group\, north on the Oyhut Canal and Lake Minard and continue to explore the two southern canals of the Bell Canal system\, and return to the public boat launch. Round trip will be 4.72 miles.</span><br style="caret-color: rgb(29\, 33\, 41)\; color: rgb(29\, 33\, 41)\; font-family: system-ui\, -apple-system\, BlinkMacSystemFont\, &quot\;.SFNSText-Regular&quot\;\, sans-serif\; font-size: 14px\; white-space: pre-wrap\;" />\n<br style="caret-color: rgb(29\, 33\, 41)\; color: rgb(29\, 33\, 41)\; font-family: system-ui\, -apple-system\, BlinkMacSystemFont\, &quot\;.SFNSText-Regular&quot\;\, sans-serif\; font-size: 14px\; white-space: pre-wrap\;" />\n<span style="caret-color: rgb(29\, 33\, 41)\; color: rgb(29\, 33\, 41)\; font-family: system-ui\, -apple-system\, BlinkMacSystemFont\, &quot\;.SFNSText-Regular&quot\;\, sans-serif\; font-size: 14px\; white-space: pre-wrap\;">The event is FREE if you have your own equipment\, however\, if you would like to rent equipment from the Boat House regular rental rates apply. Advance reservations are required to guarantee availability at launch site. </span><br style="caret-color: rgb(29\, 33\, 41)\; color: rgb(29\, 33\, 41)\; font-family: system-ui\, -apple-system\, BlinkMacSystemFont\, &quot\;.SFNSText-Regular&quot\;\, sans-serif\; font-size: 14px\; white-space: pre-wrap\;" />\n<br style="caret-color: rgb(29\, 33\, 41)\; color: rgb(29\, 33\, 41)\; font-family: system-ui\, -apple-system\, BlinkMacSystemFont\, &quot\;.SFNSText-Regular&quot\;\, sans-serif\; font-size: 14px\; white-space: pre-wrap\;" />\n<span style="caret-color: rgb(29\, 33\, 41)\; color: rgb(29\, 33\, 41)\; font-family: system-ui\, -apple-system\, BlinkMacSystemFont\, &quot\;.SFNSText-Regular&quot\;\, sans-serif\; font-size: 14px\; white-space: pre-wrap\;">Food\, drink is not provided - please BYOF and BYOD. Alcohol is prohibited from any part of the event.</span><br style="caret-color: rgb(29\, 33\, 41)\; color: rgb(29\, 33\, 41)\; font-family: system-ui\, -apple-system\, BlinkMacSystemFont\, &quot\;.SFNSText-Regular&quot\;\, sans-serif\; font-size: 14px\; white-space: pre-wrap\;" />\n<br style="caret-color: rgb(29\, 33\, 41)\; color: rgb(29\, 33\, 41)\; font-family: system-ui\, -apple-system\, BlinkMacSystemFont\, &quot\;.SFNSText-Regular&quot\;\, sans-serif\; font-size: 14px\; white-space: pre-wrap\;" />\n<span style="caret-color: rgb(29\, 33\, 41)\; color: rgb(29\, 33\, 41)\; font-family: system-ui\, -apple-system\, BlinkMacSystemFont\, &quot\;.SFNSText-Regular&quot\;\, sans-serif\; font-size: 14px\; white-space: pre-wrap\;">Safety: Canoes\, kayaks\, and similar vessels are required to have at least a Type III PFD worn by the occupant(s). Sounding device (i.e. whistle) is highly encouraged.</span>
LOCATION:pin Ocean Shores Boat House 952 Point Brown Ave SE\, Ocean Shores\, Washington 98569
UID:e.26.11973
SEQUENCE:3
DTSTAMP:20260424T132535Z
URL:https://chamber.graysharbor.org/events/details/full-flower-moon-paddle-11973
END:VEVENT

END:VCALENDAR
