BEGIN:VCALENDAR
VERSION:2.0
PRODID:-//ChamberMaster//Event Calendar 2.0//EN
METHOD:PUBLISH
X-PUBLISHED-TTL:P3D
REFRESH-INTERVAL:P3D
CALSCALE:GREGORIAN
BEGIN:VEVENT
DTSTART;VALUE=DATE:20170819
DTEND;VALUE=DATE:20170820
TRANSP:TRANSPARENT
X-MICROSOFT-CDO-ALLDAYEVENT:TRUE
SUMMARY:Fun Fly
DESCRIPTION:Novice and pofessional kite flyers perform
X-ALT-DESC;FMTTYPE=text/html:Novice and pofessional kite flyers perform
LOCATION:Ocean Shores\, WA
UID:e.26.7605
SEQUENCE:3
DTSTAMP:20260425T225857Z
URL:https://chamber.graysharbor.org/events/details/fun-fly-7605
END:VEVENT

END:VCALENDAR
