BEGIN:VCALENDAR
VERSION:2.0
PRODID:-//ChamberMaster//Event Calendar 2.0//EN
METHOD:PUBLISH
X-PUBLISHED-TTL:P3D
REFRESH-INTERVAL:P3D
CALSCALE:GREGORIAN
BEGIN:VEVENT
DTSTART;VALUE=DATE:20190824
DTEND;VALUE=DATE:20190825
TRANSP:TRANSPARENT
X-MICROSOFT-CDO-ALLDAYEVENT:TRUE
SUMMARY:Fun in the Son Community Carnival
DESCRIPTION:This is a community carnival with free admission\, games\, face-painting\, trout tank\, horses\, bounce house\, and other fun booths. There will also be food vendors and an evening concert featuring Erika Corban and Ben Fagerstedt.
X-ALT-DESC;FMTTYPE=text/html:<span style="caret-color: rgb(34\, 34\, 34)\; color: rgb(34\, 34\, 34)\; font-family: Arial\, Helvetica\, sans-serif\;">This is a community carnival with free admission\, games\, face-painting\, trout tank\, horses\, bounce house\, and other fun booths. There will also be food vendors and an evening concert featuring Erika Corban and Ben Fagerstedt.&nbsp\;</span>\n<div style="font-family: Arial\, sans-serif\;">&nbsp\;</div>\n\n<div style="font-family: Arial\, sans-serif\;">&nbsp\;</div>\n
LOCATION:Sonshine Park\, Hoquiam (Across the parking lot from Immanuel Baptist Church\, 1200 Soule Ave.)
UID:e.26.12103
SEQUENCE:3
DTSTAMP:20260424T090238Z
URL:https://chamber.graysharbor.org/events/details/fun-in-the-son-community-carnival-12103
END:VEVENT

END:VCALENDAR
