BEGIN:VCALENDAR
VERSION:2.0
PRODID:-//ChamberMaster//Event Calendar 2.0//EN
METHOD:PUBLISH
X-PUBLISHED-TTL:P3D
REFRESH-INTERVAL:P3D
CALSCALE:GREGORIAN
BEGIN:VEVENT
DTSTART:20190921T190000Z
DTEND:20190921T230000Z
X-MICROSOFT-CDO-ALLDAYEVENT:FALSE
SUMMARY:Fun on the Farm
DESCRIPTION:If you've never visited Seabrook's Farm District\, our "Fun on the Farm" event is the perfect time to do so.\n\nOur Fun on the Farm Festival is set for Saturday\, September 21 in-and-throughout Seabrook's Farm District. Visitors will enjoy Food Trucks serving regional and seasonal favorites as well as craft and artisan vendors showcasing their work for purchase. \n\nFun on the Farm will also feature live country music\, line dancing\, face painting\, and farm-themed games. There will also be plenty of family photo ops (fall seasonal settings)\, so remember to bring your camera. \n\nSpend a day out on the farm\, meet-and-greet the Seabrook horses\, and have some good old-fashioned Fun on the Farm. Join us and turn back the clock\, unwind\, and enjoy classic fall activities on the farm.
X-ALT-DESC;FMTTYPE=text/html:<p style="font-size: 16px\; box-sizing: border-box\; margin: 0px 0px 1.25em\; padding: 0px\; direction: ltr\; font-family: myriad-pro\, sans-serif\; line-height: 1.45\; text-rendering: optimizeLegibility\; letter-spacing: 0.47999998927116394px\; caret-color: rgb(84\, 102\, 108)\; color: rgb(84\, 102\, 108)\;"><span style="font-size:14px\;"><span style="font-family:arial\;"><span style="color:#000000\;">If you&rsquo\;ve never visited Seabrook&rsquo\;s Farm District\, our &ldquo\;Fun on the Farm&rdquo\; event is the perfect time to do so.</span></span></span><br />\n<span style="font-size:14px\;"><span style="font-family:arial\;"><span style="color:#000000\;">Our Fun on the Farm Festival is set for Saturday\, September 21&nbsp\;in-and-throughout Seabrook&rsquo\;s Farm District.&nbsp\;</span></span></span><span style="font-size:14px\;"><span style="font-family:arial\;"><span style="color:#000000\;">Visitors will enjoy Food Trucks serving regional and seasonal favorites as well as craft and artisan vendors showcasing their work for purchase.&nbsp\;</span></span></span></p>\n\n<p style="font-size: 16px\; box-sizing: border-box\; margin: 0px 0px 1.25em\; padding: 0px\; direction: ltr\; font-family: myriad-pro\, sans-serif\; line-height: 1.45\; text-rendering: optimizeLegibility\; letter-spacing: 0.47999998927116394px\; caret-color: rgb(84\, 102\, 108)\; color: rgb(84\, 102\, 108)\;"><span style="font-size:14px\;"><span style="font-family:arial\;"><span style="color:#000000\;">Fun on the Farm will also feature live country music\, line dancing\, face painting\, and farm-themed games. There will also be plenty of family photo ops (fall seasonal settings)\, so remember to bring your camera.&nbsp\;</span></span></span></p>\n\n<p style="font-size: 16px\; box-sizing: border-box\; margin: 0px 0px 1.25em\; padding: 0px\; direction: ltr\; font-family: myriad-pro\, sans-serif\; line-height: 1.45\; text-rendering: optimizeLegibility\; letter-spacing: 0.47999998927116394px\; caret-color: rgb(84\, 102\, 108)\; color: rgb(84\, 102\, 108)\;"><span style="font-size:14px\;"><span style="font-family:arial\;"><span style="color:#000000\;">Spend a day out on the farm\, meet-and-greet the Seabrook horses\, and have some good old-fashioned Fun on the Farm. Join us and turn back the clock\, unwind\, and enjoy classic fall activities on the farm.</span></span></span></p>\n
LOCATION:Seabrook Washington Pacific Beach\, WA
UID:e.26.11632
SEQUENCE:3
DTSTAMP:20260424T090046Z
URL:https://chamber.graysharbor.org/events/details/fun-on-the-farm-11632
END:VEVENT

END:VCALENDAR
