BEGIN:VCALENDAR
VERSION:2.0
PRODID:-//ChamberMaster//Event Calendar 2.0//EN
METHOD:PUBLISH
X-PUBLISHED-TTL:P3D
REFRESH-INTERVAL:P3D
CALSCALE:GREGORIAN
BEGIN:VEVENT
DTSTART:20180303T210000Z
DTEND:20180303T230000Z
X-MICROSOFT-CDO-ALLDAYEVENT:FALSE
SUMMARY:Fundraiser for Valé
DESCRIPTION:Hey all! We're having a photo fundraiser at the Winery to raise money for an injured dog's vet bills and care. Val  has undergone four surgeries to save her legs and feet. In an effort to offset Val 's mounting veterinary bills\, Harbor Rescue and Merrill Photography\, in conjunction with Westport Winery\, are holding a fundraiser on March 3rd. \n\n\n\nMORE INFO:\n\nVal  was placed in the back of a pickup tethered by a long leash. At some point she jumped or fell out of the truck and was dragged over 5 miles on pavement. Her injuries left her with no skin on her belly\, thighs\, both inside and outside\, and feet. Her front toenails were ground down to the bone. \n\n\n\nVal  has been surrendered to Harbor Rescue and has undergone four surgeries to save her legs and feet. In an effort to offset Val 's mounting veterinary bills\, Harbor Rescue and Merrill Photography\, in conjunction with Westport Winery\, are holding a fundraiser on March 3rd. \n\n\n\nBring your [somewhat] well behaved\, leashed pets to the Westport Winery for photos by Marcy Merrill. There will also be a few choice items up for grabs via donation.\n\nAlso: Anyone who is interested in donating can do any of three things: Paypal harborrescue@outlook.com You can call Companion Animal Hospital at (360)533-0422 Or you can mail a check to Harbor Rescue PO Box 1158\, Cosmopolis\, WA 98537.
X-ALT-DESC;FMTTYPE=text/html:<span style="color: rgb(75\, 79\, 86)\; font-family: Helvetica\, Arial\, sans-serif\; font-size: 14px\; background-color: rgb(255\, 255\, 255)\;">Hey all! We&#39\;re having a photo fundraiser at the Winery to raise money for an injured dog&#39\;s vet bills and care. Val&eacute\; has undergone four surgeries to save her legs and feet. In an effort to offset Val&eacute\;&#39\;s mounting veterinary bills\, Harbor Rescue and Merrill Photography\, in conjunction with Westport Winery\, are holding a fundraiser on March 3rd.&nbsp\;</span><br style="color: rgb(75\, 79\, 86)\; font-family: Helvetica\, Arial\, sans-serif\; font-size: 14px\; background-color: rgb(255\, 255\, 255)\;" />\n<br style="color: rgb(75\, 79\, 86)\; font-family: Helvetica\, Arial\, sans-serif\; font-size: 14px\; background-color: rgb(255\, 255\, 255)\;" />\n<span style="color: rgb(75\, 79\, 86)\; font-family: Helvetica\, Arial\, sans-serif\; font-size: 14px\; background-color: rgb(255\, 255\, 255)\;">MORE INFO:</span><br style="color: rgb(75\, 79\, 86)\; font-family: Helvetica\, Arial\, sans-serif\; font-size: 14px\; background-color: rgb(255\, 255\, 255)\;" />\n<span style="color: rgb(75\, 79\, 86)\; font-family: Helvetica\, Arial\, sans-serif\; font-size: 14px\; background-color: rgb(255\, 255\, 255)\;">Val&eacute\; was placed in the back of a pickup tethered by a long leash. At some point she jumped or fell out of the truck and was dragged over 5 miles on pavement. Her injuries left her with no skin on her belly\, thighs\, both inside and outside\, and feet. Her front toenails were ground down to the bone.&nbsp\;</span><br style="color: rgb(75\, 79\, 86)\; font-family: Helvetica\, Arial\, sans-serif\; font-size: 14px\; background-color: rgb(255\, 255\, 255)\;" />\n<br style="color: rgb(75\, 79\, 86)\; font-family: Helvetica\, Arial\, sans-serif\; font-size: 14px\; background-color: rgb(255\, 255\, 255)\;" />\n<span style="color: rgb(75\, 79\, 86)\; font-family: Helvetica\, Arial\, sans-serif\; font-size: 14px\; background-color: rgb(255\, 255\, 255)\;">Val&eacute\; has been surrendered to Harbor Rescue and has undergone f</span><span class="text_exposed_show" style="display: inline\; font-family: Helvetica\, Arial\, sans-serif\; color: rgb(75\, 79\, 86)\; font-size: 14px\; background-color: rgb(255\, 255\, 255)\;">our surgeries to save her legs and feet. In an effort to offset Val&eacute\;&#39\;s mounting veterinary bills\, Harbor Rescue and Merrill Photography\, in conjunction with Westport Winery\, are holding a fundraiser on March 3rd.&nbsp\;<br />\n<br />\nBring your [somewhat] well behaved\, leashed pets to the Westport Winery for photos by Marcy Merrill. There will also be a few choice items up for grabs via donation.<br />\nAlso: Anyone who is interested in donating can do any of three things: Paypal harborrescue@outlook.com You can call Companion Animal Hospital at (360)533-0422 Or you can mail a check to Harbor Rescue PO Box 1158\, Cosmopolis\, WA 98537.</span>
LOCATION:Westport Winery 1 S Arbor Rd Aberdeen\, WA
UID:e.26.9532
SEQUENCE:3
DTSTAMP:20260425T131002Z
URL:https://chamber.graysharbor.org/events/details/fundraiser-for-val&#233;-9532
END:VEVENT

END:VCALENDAR
