BEGIN:VCALENDAR
VERSION:2.0
PRODID:-//ChamberMaster//Event Calendar 2.0//EN
METHOD:PUBLISH
X-PUBLISHED-TTL:P3D
REFRESH-INTERVAL:P3D
CALSCALE:GREGORIAN
BEGIN:VEVENT
DTSTART:20190518T063000Z
DTEND:20190517T193000Z
X-MICROSOFT-CDO-ALLDAYEVENT:FALSE
SUMMARY:Furniture 2 Go Ribbon Cutting
DESCRIPTION:GGHI will be performing a ribbon cutting at the new Furniture 2 Go store on Friday\, May 17th at 11:30 am! They are located at 102 W Wishkah St. in Aberdeen. Come out and support this new business in Grays Harbor and watch them cut the ribbon!
X-ALT-DESC;FMTTYPE=text/html:<span style="caret-color: rgb(34\, 34\, 34)\; color: rgb(34\, 34\, 34)\; font-family: Arial\, Helvetica\, sans-serif\; font-size: small\;">GGHI will be performing a ribbon cutting at the new&nbsp\;</span><i style="caret-color: rgb(34\, 34\, 34)\; color: rgb(34\, 34\, 34)\; font-family: Arial\, Helvetica\, sans-serif\;">Furniture 2 Go</i><i style="caret-color: rgb(34\, 34\, 34)\; color: rgb(34\, 34\, 34)\; font-family: Arial\, Helvetica\, sans-serif\;"> store</i><span style="caret-color: rgb(34\, 34\, 34)\; color: rgb(34\, 34\, 34)\; font-family: Arial\, Helvetica\, sans-serif\; font-size: small\;">&nbsp\;on Friday\, May 17</span><sup style="caret-color: rgb(34\, 34\, 34)\; color: rgb(34\, 34\, 34)\; font-family: Arial\, Helvetica\, sans-serif\;">th</sup><span style="caret-color: rgb(34\, 34\, 34)\; color: rgb(34\, 34\, 34)\; font-family: Arial\, Helvetica\, sans-serif\; font-size: small\;">&nbsp\;at 11:30 am! They are located at 102 W Wishkah St. in Aberdeen. Come out and support this new business in Grays Harbor and watch them cut the ribbon!</span>
LOCATION:Furniture 2 Go 102 W Wishkah St. Aberdeen\, WA
UID:e.26.11995
SEQUENCE:3
DTSTAMP:20260424T132944Z
URL:https://chamber.graysharbor.org/events/details/furniture-2-go-ribbon-cutting-11995
END:VEVENT

END:VCALENDAR
