BEGIN:VCALENDAR
VERSION:2.0
PRODID:-//ChamberMaster//Event Calendar 2.0//EN
METHOD:PUBLISH
X-PUBLISHED-TTL:P3D
REFRESH-INTERVAL:P3D
CALSCALE:GREGORIAN
BEGIN:VEVENT
DTSTART;VALUE=DATE:20190927
DTEND;VALUE=DATE:20190930
TRANSP:TRANSPARENT
X-MICROSOFT-CDO-ALLDAYEVENT:TRUE
SUMMARY:Furvana
DESCRIPTION:"Furvana is an anthropomorphic arts and culture convention coming to the Ocean Shores Convention Center this September. It is a gathering of fans\, artists\, costumers\, and friends with a shared interest in animals and creatures with anthropomorphic traits\, more commonly known as "furs" or "furries". This is a members only event\, but memberships can be purchased and then you can attend the event.
X-ALT-DESC;FMTTYPE=text/html:<span style="background-color:rgb(255\, 255\, 255)\; color:rgb(128\, 128\, 128)\; font-family:lato\,sans-serif\; font-size:17.008px">&quot\;Furvana is an anthropomorphic arts and culture convention coming to the Ocean Shores Convention Center this September. It is a gathering of fans\, artists\, costumers\, and friends with a shared interest in animals and creatures with anthropomorphic traits\, more commonly known as &quot\;furs&quot\; or &quot\;furries&quot\;. This is a members only event\, but memberships can be purchased and then you can attend the event.&nbsp\;</span>
LOCATION:Ocean Shores Convention Center 120 W Chance A La Mer Ave Ocean Shores\, WA 98569
UID:e.26.11926
SEQUENCE:3
DTSTAMP:20260424T073755Z
URL:https://chamber.graysharbor.org/events/details/furvana-11926
END:VEVENT

END:VCALENDAR
