BEGIN:VCALENDAR
VERSION:2.0
PRODID:-//ChamberMaster//Event Calendar 2.0//EN
METHOD:PUBLISH
X-PUBLISHED-TTL:P3D
REFRESH-INTERVAL:P3D
CALSCALE:GREGORIAN
BEGIN:VEVENT
DTSTART:20200215T180000Z
DTEND:20200216T000000Z
X-MICROSOFT-CDO-ALLDAYEVENT:FALSE
SUMMARY:Galentines Day Photos + Flowers
DESCRIPTION:Wouldn't you LOVE to have a great photo of you with your girlfriends?? Valley & Rose will be designing a floral backdrop for you to have gorgeous\, professional photos with your friends! Cost of admission includes a 12oz beverage from Brass Hub and 2 hi-res downloads per participant! \n\n\n\nMore details to come\, but expect a vendor market\, special baked goods\, sales at the boutique\, and other fun activities to help you celebrate your friendships with the wonderful women in your life.   Tickets must only be purchased if you are wanting photos - admission to come and shop and enjoy the happenings is no charge.   If you are interested in being a vendor\, please message Juniper Tree or Brass Hub Coffeebar!
X-ALT-DESC;FMTTYPE=text/html:<span style="caret-color: rgb(29\, 33\, 41)\; color: rgb(29\, 33\, 41)\; font-family: system-ui\, -apple-system\, BlinkMacSystemFont\, &quot\;.SFNSText-Regular&quot\;\, sans-serif\; font-size: 14px\; white-space: pre-wrap\;">Wouldn&#39\;t you LOVE to have a great photo of you with your girlfriends?? Valley &amp\; Rose will be designing a floral backdrop for you to have gorgeous\, professional photos with your friends! Cost of admission includes a 12oz beverage from Brass Hub and 2 hi-res downloads per participant! </span><br style="caret-color: rgb(29\, 33\, 41)\; color: rgb(29\, 33\, 41)\; font-family: system-ui\, -apple-system\, BlinkMacSystemFont\, &quot\;.SFNSText-Regular&quot\;\, sans-serif\; font-size: 14px\; white-space: pre-wrap\;" />\n<br style="caret-color: rgb(29\, 33\, 41)\; color: rgb(29\, 33\, 41)\; font-family: system-ui\, -apple-system\, BlinkMacSystemFont\, &quot\;.SFNSText-Regular&quot\;\, sans-serif\; font-size: 14px\; white-space: pre-wrap\;" />\n<span style="caret-color: rgb(29\, 33\, 41)\; color: rgb(29\, 33\, 41)\; font-family: system-ui\, -apple-system\, BlinkMacSystemFont\, &quot\;.SFNSText-Regular&quot\;\, sans-serif\; font-size: 14px\; white-space: pre-wrap\;">More details to come\, but expect a vendor market\, special baked goods\, sales at the boutique\, and other fun activities to help you celebrate your friendships with the wonderful women in your life. &hearts\; Tickets must only be purchased if you are wanting photos - admission to come and shop and enjoy the happenings is no charge. &hearts\; If you are interested in being a vendor\, please message Juniper Tree or Brass Hub Coffeebar! </span>
LOCATION:pin Juniper Tree 1101 1st Street\, Cosmopolis\, Washington 98537
UID:e.26.12345
SEQUENCE:3
DTSTAMP:20260424T042136Z
URL:https://chamber.graysharbor.org/events/details/galentines-day-photos-flowers-12345
END:VEVENT

END:VCALENDAR
