BEGIN:VCALENDAR
VERSION:2.0
PRODID:-//ChamberMaster//Event Calendar 2.0//EN
METHOD:PUBLISH
X-PUBLISHED-TTL:P3D
REFRESH-INTERVAL:P3D
CALSCALE:GREGORIAN
BEGIN:VEVENT
DTSTART:20200118T000000Z
DTEND:20200118T010000Z
X-MICROSOFT-CDO-ALLDAYEVENT:FALSE
SUMMARY:Game Day Sports Bar & Grill Ribbon Cutting
DESCRIPTION:Greater Grays Harbor will be organizing a ribbon cutting for Game Day Sports Bar & Grill on Friday\, January 17th at 4 pm. They're located at 1017 S Boone St. (Shoppes at Riverside) in Ste. 56 near the Extreme Fun Center.\n\n\n\nWe're so excited to welcome this new business to Grays Harbor. Join us as we celebrate this locally owned restaurant\, and stay for a drink or dinner!
X-ALT-DESC;FMTTYPE=text/html:<span style="caret-color: rgb(29\, 33\, 41)\; color: rgb(29\, 33\, 41)\; font-family: system-ui\, -apple-system\, BlinkMacSystemFont\, &quot\;.SFNSText-Regular&quot\;\, sans-serif\; font-size: 14px\; white-space: pre-wrap\;">Greater Grays Harbor will be organizing a ribbon cutting for Game Day Sports Bar &amp\; Grill on Friday\, January 17th at 4 pm. They&#39\;re located at 1017 S Boone St. (Shoppes at Riverside) in Ste. 56 near the Extreme Fun Center.</span><br style="caret-color: rgb(29\, 33\, 41)\; color: rgb(29\, 33\, 41)\; font-family: system-ui\, -apple-system\, BlinkMacSystemFont\, &quot\;.SFNSText-Regular&quot\;\, sans-serif\; font-size: 14px\; white-space: pre-wrap\;" />\n<br style="caret-color: rgb(29\, 33\, 41)\; color: rgb(29\, 33\, 41)\; font-family: system-ui\, -apple-system\, BlinkMacSystemFont\, &quot\;.SFNSText-Regular&quot\;\, sans-serif\; font-size: 14px\; white-space: pre-wrap\;" />\n<span style="caret-color: rgb(29\, 33\, 41)\; color: rgb(29\, 33\, 41)\; font-family: system-ui\, -apple-system\, BlinkMacSystemFont\, &quot\;.SFNSText-Regular&quot\;\, sans-serif\; font-size: 14px\; white-space: pre-wrap\;">We&#39\;re so excited to welcome this new business to Grays Harbor. Join us as we celebrate this locally owned restaurant\, and stay for a drink or dinner!</span>
LOCATION:1017 S Boone St. (Shoppes at Riverside) Ste. 56 Aberdeen\, WA
UID:e.26.12360
SEQUENCE:3
DTSTAMP:20260424T042339Z
URL:https://chamber.graysharbor.org/events/details/game-day-sports-bar-grill-ribbon-cutting-12360
END:VEVENT

END:VCALENDAR
