BEGIN:VCALENDAR
VERSION:2.0
PRODID:-//ChamberMaster//Event Calendar 2.0//EN
METHOD:PUBLISH
X-PUBLISHED-TTL:P3D
REFRESH-INTERVAL:P3D
CALSCALE:GREGORIAN
BEGIN:VEVENT
DTSTART:20200215T000000Z
DTEND:20200215T030000Z
X-MICROSOFT-CDO-ALLDAYEVENT:FALSE
SUMMARY:Game Night!
DESCRIPTION:We are hosting a Valentines Day game night! All ages welcome we will have a ton of board games\, card games\, and hopefully a few old school video game options. Come play a game & meet some new people. We will have a special menu option posted closer to the date so you can snag a yummy dinner at a good price as well.
X-ALT-DESC;FMTTYPE=text/html:<span style="color:rgb(29\, 33\, 41)\; font-family:helvetica\,arial\,sans-serif\; font-size:14px">We are hosting a Valentines Day game night! All ages welcome we will have a ton of board games\, card games\, and hopefully a few old school video game options. Come play a game &amp\; meet some new people. We will have a special menu option posted closer to the date so you can snag a yummy dinner at a good price as well.</span>
LOCATION:Urban Juice Factory\, Inc. 214 S Main St\, Montesano\, WA 98563
UID:e.26.12367
SEQUENCE:3
DTSTAMP:20260424T041750Z
URL:https://chamber.graysharbor.org/events/details/game-night-12367
END:VEVENT

END:VCALENDAR
