BEGIN:VCALENDAR
VERSION:2.0
PRODID:-//ChamberMaster//Event Calendar 2.0//EN
METHOD:PUBLISH
X-PUBLISHED-TTL:P3D
REFRESH-INTERVAL:P3D
CALSCALE:GREGORIAN
BEGIN:VEVENT
DTSTART:20190511T210000Z
DTEND:20190511T230000Z
X-MICROSOFT-CDO-ALLDAYEVENT:FALSE
SUMMARY:Garden Party with Ciscoe
DESCRIPTION:It's not a real Garden Party until Ciscoe Morris is there!\n\nOn Saturday\, May 11\, Seabrook is hosting the Grand Daddy of All Garden Parties\, and you are invited!\n\nAfter a long winter cooped inside\, nothing feels more satisfying (and fun!) then an alfresco afternoon among friends and family. \n\nYou will experience all types of fun at this spring soiree: live music\, lawn games\, tasty drinks and pastries\, bonnet and hat contests\, and a presentation with popular master gardener Ciscoe Morris. \n\nEverybody loves a Garden Party. So join us at Horseshoe Park on Saturday\, May 11\, at 2 pm for an afternoon delight!
X-ALT-DESC;FMTTYPE=text/html:<p style="font-size: 16px\; box-sizing: border-box\; margin: 0px 0px 1.25em\; padding: 0px\; direction: ltr\; font-family: myriad-pro\, sans-serif\; line-height: 1.45\; text-rendering: optimizeLegibility\; letter-spacing: 0.47999998927116394px\; caret-color: rgb(84\, 102\, 108)\; color: rgb(84\, 102\, 108)\;">It&rsquo\;s not a real Garden Party until Ciscoe Morris is there!</p>\n\n<p style="font-size: 16px\; box-sizing: border-box\; margin: 0px 0px 1.25em\; padding: 0px\; direction: ltr\; font-family: myriad-pro\, sans-serif\; line-height: 1.45\; text-rendering: optimizeLegibility\; letter-spacing: 0.47999998927116394px\; caret-color: rgb(84\, 102\, 108)\; color: rgb(84\, 102\, 108)\;">On Saturday\, May 11\, Seabrook is hosting the Grand Daddy of All Garden Parties\, and you are invited!</p>\n\n<p style="font-size: 16px\; box-sizing: border-box\; margin: 0px 0px 1.25em\; padding: 0px\; direction: ltr\; font-family: myriad-pro\, sans-serif\; line-height: 1.45\; text-rendering: optimizeLegibility\; letter-spacing: 0.47999998927116394px\; caret-color: rgb(84\, 102\, 108)\; color: rgb(84\, 102\, 108)\;">After a long winter cooped inside\, nothing feels more satisfying (and fun!) then an alfresco afternoon among friends and family.&nbsp\;</p>\n\n<p style="font-size: 16px\; box-sizing: border-box\; margin: 0px 0px 1.25em\; padding: 0px\; direction: ltr\; font-family: myriad-pro\, sans-serif\; line-height: 1.45\; text-rendering: optimizeLegibility\; letter-spacing: 0.47999998927116394px\; caret-color: rgb(84\, 102\, 108)\; color: rgb(84\, 102\, 108)\;">You will experience all types of fun at this spring soiree: live music\, lawn games\, tasty drinks and pastries\, bonnet and hat contests\, and a presentation with popular master gardener Ciscoe Morris.&nbsp\;</p>\n\n<p style="font-size: 16px\; box-sizing: border-box\; margin: 0px 0px 1.25em\; padding: 0px\; direction: ltr\; font-family: myriad-pro\, sans-serif\; line-height: 1.45\; text-rendering: optimizeLegibility\; letter-spacing: 0.47999998927116394px\; caret-color: rgb(84\, 102\, 108)\; color: rgb(84\, 102\, 108)\;">Everybody loves a Garden Party. So join us at&nbsp\;<strong style="box-sizing: border-box\; line-height: 1.45\;">Horseshoe Park on Saturday\, May 11\, at 2 pm</strong>&nbsp\;for an afternoon delight!</p>\n
LOCATION:Horseshoe Park in Seabrook Pacific Beach\, WA
UID:e.26.11628
SEQUENCE:3
DTSTAMP:20260424T132621Z
URL:https://chamber.graysharbor.org/events/details/garden-party-with-ciscoe-11628
END:VEVENT

END:VCALENDAR
