BEGIN:VCALENDAR
VERSION:2.0
PRODID:-//ChamberMaster//Event Calendar 2.0//EN
METHOD:PUBLISH
X-PUBLISHED-TTL:P3D
REFRESH-INTERVAL:P3D
CALSCALE:GREGORIAN
BEGIN:VEVENT
DTSTART:20180113T210000Z
DTEND:20180114T000000Z
X-MICROSOFT-CDO-ALLDAYEVENT:FALSE
SUMMARY:Genealogy Cafe
DESCRIPTION:Want to search your family history\, but don't know how to get started? The Grays Harbor Genealogy Society will be holding a Genealogy Cafe at Hoquiam Timberland Library. Whether you're new to genealogy or experienced\, you'll learn about local resources\, as well as get individualized help using the library's online resources and print materials. This free program is provided on a first come\, first served basis\, no registration is necessary. Drop-in between 1:00pm and 4:00pm on Saturday\, January 13th.
X-ALT-DESC;FMTTYPE=text/html:<span style="color: rgb(75\, 79\, 86)\; font-family: Helvetica\, Arial\, sans-serif\; font-size: 14px\; background-color: rgb(255\, 255\, 255)\;">Want to search your family history\, but don&#39\;t know how to get started? The Grays Harbor Genealogy Society will be holding a Genealogy Cafe at Hoquiam Timberland Library. Whether you&#39\;re new to genealogy or experienced\, you&#39\;ll learn about local resources\, as well as get individualized help using the library&#39\;s online resources and print materials. This free program is provided on a first come\, first served basis\, no registration is necessary. Drop-in between 1:00pm and 4:00pm on Saturday\, January 13th.</span>
LOCATION:Hoquiam Timberland Library
UID:e.26.9453
SEQUENCE:3
DTSTAMP:20260425T145433Z
URL:https://chamber.graysharbor.org/events/details/genealogy-cafe-9453
END:VEVENT

END:VCALENDAR
