BEGIN:VCALENDAR
VERSION:2.0
PRODID:-//ChamberMaster//Event Calendar 2.0//EN
METHOD:PUBLISH
X-PUBLISHED-TTL:P3D
REFRESH-INTERVAL:P3D
CALSCALE:GREGORIAN
BEGIN:VEVENT
DTSTART:20180119T020000Z
DTEND:20180119T050000Z
X-MICROSOFT-CDO-ALLDAYEVENT:FALSE
SUMMARY:Georgetown Brewers Dinner
DESCRIPTION:Georgetown Brewery has been nice enough to plan a trip to Ocean Shores in the middle of winter! Sure to be a great time with a four course beer pairing menu including some one-off brew options! Bring your own growler to fill up on our way out with one of your favorites!
X-ALT-DESC;FMTTYPE=text/html:<span style="color: rgb(75\, 79\, 86)\; font-family: Helvetica\, Arial\, sans-serif\; font-size: 14px\; background-color: rgb(255\, 255\, 255)\;">Georgetown Brewery has been nice enough to plan a trip to Ocean Shores in the middle of winter! Sure to be a great time with a four course beer pairing menu including some one-off brew options! Bring your own growler to fill up on our way out with one of your favorites!</span>
LOCATION:Ocean Beach Roasters & Bistro 841 Point Brown Ave. NW Ocean Shores\, WA
UID:e.26.9427
SEQUENCE:3
DTSTAMP:20260425T145428Z
URL:https://chamber.graysharbor.org/events/details/georgetown-brewers-dinner-9427
END:VEVENT

END:VCALENDAR
