BEGIN:VCALENDAR
VERSION:2.0
PRODID:-//ChamberMaster//Event Calendar 2.0//EN
METHOD:PUBLISH
X-PUBLISHED-TTL:P3D
REFRESH-INTERVAL:P3D
CALSCALE:GREGORIAN
BEGIN:VEVENT
DTSTART:20170923T180000Z
DTEND:20170924T020000Z
X-MICROSOFT-CDO-ALLDAYEVENT:FALSE
SUMMARY:Georgetown Day's Cultural Fair
DESCRIPTION:JOIN US IN CELEBRATING OUR RESERVATION'S 151ST BIRTHDAY BY SHARING OUR CULTURE WITH EVERYONE! Saturday\, September 23 8:45am-ish   Paddle to Georgetown Departure from Bay Center 11am-ish   Paddle to Georgetown Landing at Tokeland Marina (Canoe Journey times are subject to Mother Nature's demands) 11am-5pm   Youth Activities with Roger Fernandes (Storytelling and Painting) 11am-7pm   Cultural Vendors (Carving\, Weaving\, etc. Demo's and Activities) 12pm-1pm  Catered Lunch FREE while supply lasts 1pm-6pm  Canoe Family Protocol (singing\, dancing & activities) 6pm-7pm   Dinner served at Gym FREE while supply lasts
X-ALT-DESC;FMTTYPE=text/html:JOIN US IN CELEBRATING OUR RESERVATION&rsquo\;S 151ST BIRTHDAY BY SHARING OUR CULTURE WITH EVERYONE! Saturday\, September 23 8:45am-ish &ndash\; Paddle to Georgetown Departure from Bay Center 11am-ish &ndash\; Paddle to Georgetown Landing at Tokeland Marina (Canoe Journey times are subject to Mother Nature&rsquo\;s demands) 11am-5pm &ndash\; Youth Activities with Roger Fernandes (Storytelling and Painting) 11am-7pm &ndash\; Cultural Vendors (Carving\, Weaving\, etc. Demo&rsquo\;s and Activities) 12pm-1pm &ndash\;Catered Lunch FREE while supply lasts 1pm-6pm &ndash\;Canoe Family Protocol (singing\, dancing &amp\; activities) 6pm-7pm &ndash\; Dinner served at Gym FREE while supply lasts
LOCATION:Shoalwater Bay Tribal Gym 2405 Elm St.\, Tokeland\, WA
UID:e.26.8185
SEQUENCE:3
DTSTAMP:20260425T230345Z
URL:https://chamber.graysharbor.org/events/details/georgetown-day-s-cultural-fair-8185
END:VEVENT

END:VCALENDAR
