BEGIN:VCALENDAR
VERSION:2.0
PRODID:-//ChamberMaster//Event Calendar 2.0//EN
METHOD:PUBLISH
X-PUBLISHED-TTL:P3D
REFRESH-INTERVAL:P3D
CALSCALE:GREGORIAN
BEGIN:VEVENT
DTSTART:20241113T013000Z
DTEND:20241113T030000Z
X-MICROSOFT-CDO-ALLDAYEVENT:FALSE
SUMMARY:GGHI Business After Hours - Chateau Westport Resort
DESCRIPTION:Each month a Greater Grays Harbor\, Inc. (GGHI) Member plays host to one of the most popular networking events in Grays Harbor\, Business After Hours (BAH)! This month's BAH will be hosted by the oceanfront property of Chateau Westport Resort. Sitting on 27-acres and with over 100 guest rooms\, an indoor heated pool\, fitness room\, and a fantastic staff\, Chateau Westport continues to be one of the most popular places to stay in the South Beach area.\n\n\n\nGuests at the November BAH will be in for a wonderful evening exploring the property decorated in fall decor\, mingling with fellow business community members\, and taking part in networking games. \n\n\n\nAdditional event details to get excited about:\n\n	TWO door prize raffles for one-night stays at the beautiful Chateau Westport!\n	Light appetizers\, desserts\, adult beverages will be served.\n	The return of GGHI's 50/50 raffle for your chance to take home some cash!\n\nAs always\, BAHs are free for all 21+ business community members to attend. We hope to see you there!\n\n\n\nQuestions? Contact GGHI at (360) 532-7888.
X-ALT-DESC;FMTTYPE=text/html:<span style="font-size:14px\;">Each month a Greater Grays Harbor\, Inc. (GGHI) Member plays host to one of the most popular networking events in Grays Harbor\, Business After Hours (BAH)! <strong>This month&#39\;s BAH will be hosted by the oceanfront property of Chateau Westport Resort.</strong> Sitting on 27-acres and with over 100 guest rooms\, an indoor heated pool\, fitness room\, and a fantastic staff\, Chateau Westport continues to be one of the most popular places to stay in the South Beach area.<br />\n<br />\nGuests at the November BAH will be in for a wonderful evening exploring the property decorated in fall decor\, mingling with fellow business community members\, and taking part in networking games.&nbsp\;<br />\n<br />\n<strong><em>Additional event details to get excited about:</em></strong></span>\n<ul>\n	<li><span style="font-size:14px\;">TWO door prize raffles for one-night stays at the beautiful Chateau Westport!</span></li>\n	<li><span style="font-size:14px\;">Light appetizers\, desserts\, adult beverages will be served.</span></li>\n	<li><span style="font-size:14px\;">The return of GGHI&#39\;s&nbsp\;50/50 raffle for your chance to take home some cash!</span></li>\n</ul>\n<span style="font-size:14px\;">As always\, BAHs are free for all 21+ business community members to attend. We hope to see you there!<br />\n<br />\nQuestions? Contact GGHI at (360) 532-7888.&nbsp\;</span>
LOCATION:Chateau Westport Resort 710 S Hancock Ave. Westport\, WA
UID:e.26.14863
SEQUENCE:3
DTSTAMP:20260423T174414Z
URL:https://chamber.graysharbor.org/events/details/gghi-business-after-hours-chateau-westport-resort-14863
END:VEVENT

END:VCALENDAR
