BEGIN:VCALENDAR
VERSION:2.0
PRODID:-//ChamberMaster//Event Calendar 2.0//EN
METHOD:PUBLISH
X-PUBLISHED-TTL:P3D
REFRESH-INTERVAL:P3D
CALSCALE:GREGORIAN
BEGIN:VEVENT
DTSTART:20260211T013000Z
DTEND:20260211T030000Z
X-MICROSOFT-CDO-ALLDAYEVENT:FALSE
SUMMARY:GGHI Business After Hours\, Hosted by Aberdeen School District
DESCRIPTION:Join Greater Grays Harbor\, Inc. (GGHI) for a special Business After Hours on February 10th from 5:30pm - 7:00pm\, hosted by GGHI Member\, Aberdeen School District at Aberdeen High School (AHS)!\n\nThe evening will kick off in the AHS Community Room on the second floor. From there\, AHS staff will share a few words highlighting the school's Career and Technical Education (CTE) programs\, followed by an interactive experience throughout the building. Guests will be invited to tour\, visit\, and learn more about various CTE programs and classrooms.\n\nAs you explore\, keep an eye out as AHS culinary students will be preparing and delivering delicious appetizers as you mingle around the school. \n\nBe sure to bring your business cards for a chance to win a Bobcat-themed basket door prize!  \n\nAttendees will also learn more about the exciting re-launch of the Hire Me First program\, a community-based initiative connecting high school students (ages 16+) with local businesses for hands-on work experience. This program helps boost youth employability\, supports local employers\, and bridges the gap to first jobs\, creating wins for students and businesses.\n\nAs always\, Business After Hours are free and open to the entire business community. Come network\, explore\, and learn more about the exciting things happening at AHS. We can't wait to see you there!
X-ALT-DESC;FMTTYPE=text/html:<div data-olk-copy-source="MessageBody" style="border: 0px\; font-variant-numeric: inherit\; font-variant-east-asian: inherit\; font-variant-alternates: inherit\; font-variant-position: inherit\; font-variant-emoji: inherit\; font-stretch: inherit\; font-size: 12pt\; line-height: inherit\; font-family: Aptos\, Aptos_EmbeddedFont\, Aptos_MSFontService\, Calibri\, Helvetica\, sans-serif\, serif\, EmojiFont\; font-optical-sizing: inherit\; font-size-adjust: inherit\; font-kerning: inherit\; font-feature-settings: inherit\; font-variation-settings: inherit\; font-language-override: inherit\; margin: 1em 0px\; padding: 0px\; vertical-align: baseline\; color: rgb(0\, 0\, 0)\;">Join Greater Grays Harbor\, Inc. (GGHI) for a special Business After Hours&nbsp\;on February 10th from 5:30pm - 7:00pm\, hosted by GGHI Member\, Aberdeen School District at Aberdeen High School&nbsp\;(AHS)!</div>\n\n<div style="border: 0px\; font-variant-numeric: inherit\; font-variant-east-asian: inherit\; font-variant-alternates: inherit\; font-variant-position: inherit\; font-variant-emoji: inherit\; font-stretch: inherit\; font-size: 12pt\; line-height: inherit\; font-family: Aptos\, Aptos_EmbeddedFont\, Aptos_MSFontService\, Calibri\, Helvetica\, sans-serif\, serif\, EmojiFont\; font-optical-sizing: inherit\; font-size-adjust: inherit\; font-kerning: inherit\; font-feature-settings: inherit\; font-variation-settings: inherit\; font-language-override: inherit\; margin: 1em 0px\; padding: 0px\; vertical-align: baseline\; color: rgb(0\, 0\, 0)\;">The evening will kick off in the AHS Community Room on the second floor. From there\, AHS staff will share a few words highlighting the school&rsquo\;s Career and Technical Education (CTE) programs\, followed by an interactive experience throughout the building. Guests will be invited to tour\, visit\, and learn more about various CTE programs and classrooms.</div>\n\n<div style="border: 0px\; font-variant-numeric: inherit\; font-variant-east-asian: inherit\; font-variant-alternates: inherit\; font-variant-position: inherit\; font-variant-emoji: inherit\; font-stretch: inherit\; font-size: 12pt\; line-height: inherit\; font-family: Aptos\, Aptos_EmbeddedFont\, Aptos_MSFontService\, Calibri\, Helvetica\, sans-serif\, serif\, EmojiFont\; font-optical-sizing: inherit\; font-size-adjust: inherit\; font-kerning: inherit\; font-feature-settings: inherit\; font-variation-settings: inherit\; font-language-override: inherit\; margin: 1em 0px\; padding: 0px\; vertical-align: baseline\; color: rgb(0\, 0\, 0)\;">As you explore\, keep an eye out as&nbsp\;AHS culinary students&nbsp\;will be preparing and delivering delicious appetizers as you mingle around the school.&nbsp\;</div>\n\n<div style="border: 0px\; font-variant-numeric: inherit\; font-variant-east-asian: inherit\; font-variant-alternates: inherit\; font-variant-position: inherit\; font-variant-emoji: inherit\; font-stretch: inherit\; font-size: 12pt\; line-height: inherit\; font-family: Aptos\, Aptos_EmbeddedFont\, Aptos_MSFontService\, Calibri\, Helvetica\, sans-serif\, serif\, EmojiFont\; font-optical-sizing: inherit\; font-size-adjust: inherit\; font-kerning: inherit\; font-feature-settings: inherit\; font-variation-settings: inherit\; font-language-override: inherit\; margin: 1em 0px\; padding: 0px\; vertical-align: baseline\; color: rgb(0\, 0\, 0)\;">Be sure to bring your business cards for a chance to win a Bobcat-themed basket door prize! &#128062\;</div>\n\n<div style="border: 0px\; font-variant-numeric: inherit\; font-variant-east-asian: inherit\; font-variant-alternates: inherit\; font-variant-position: inherit\; font-variant-emoji: inherit\; font-stretch: inherit\; font-size: 12pt\; line-height: inherit\; font-family: Aptos\, Aptos_EmbeddedFont\, Aptos_MSFontService\, Calibri\, Helvetica\, sans-serif\, serif\, EmojiFont\; font-optical-sizing: inherit\; font-size-adjust: inherit\; font-kerning: inherit\; font-feature-settings: inherit\; font-variation-settings: inherit\; font-language-override: inherit\; margin: 1em 0px\; padding: 0px\; vertical-align: baseline\; color: rgb(0\, 0\, 0)\;">Attendees will also learn more about the exciting re-launch of the Hire Me First&nbsp\;program\, a community-based initiative connecting high school students (ages 16+) with local businesses for hands-on work experience. This program helps boost youth employability\, supports local employers\, and bridges the gap to first jobs\, creating wins for students and&nbsp\;businesses.</div>\n\n<div style="border: 0px\; font-variant-numeric: inherit\; font-variant-east-asian: inherit\; font-variant-alternates: inherit\; font-variant-position: inherit\; font-variant-emoji: inherit\; font-stretch: inherit\; font-size: 12pt\; line-height: inherit\; font-family: Aptos\, Aptos_EmbeddedFont\, Aptos_MSFontService\, Calibri\, Helvetica\, sans-serif\, serif\, EmojiFont\; font-optical-sizing: inherit\; font-size-adjust: inherit\; font-kerning: inherit\; font-feature-settings: inherit\; font-variation-settings: inherit\; font-language-override: inherit\; margin: 1em 0px\; padding: 0px\; vertical-align: baseline\; color: rgb(0\, 0\, 0)\;">As always\, Business After Hours are free and open to the entire business community. Come network\, explore\, and learn more about the exciting things happening at AHS. We can&rsquo\;t wait to see you there!</div>\n
LOCATION:Aberdeen High School 410 N G St. Aberdeen\, WA
UID:e.26.15286
SEQUENCE:3
DTSTAMP:20260423T150357Z
URL:https://chamber.graysharbor.org/events/details/gghi-business-after-hours-hosted-by-aberdeen-school-district-15286
END:VEVENT

END:VCALENDAR
