BEGIN:VCALENDAR
VERSION:2.0
PRODID:-//ChamberMaster//Event Calendar 2.0//EN
METHOD:PUBLISH
X-PUBLISHED-TTL:P3D
REFRESH-INTERVAL:P3D
CALSCALE:GREGORIAN
BEGIN:VEVENT
DTSTART:20240723T183000Z
DTEND:20240723T200000Z
X-MICROSOFT-CDO-ALLDAYEVENT:FALSE
SUMMARY:GGHI Business Forum Lunch - GH County Public Health & Meet the New GGHI CEO
DESCRIPTION:Don't miss the July Greater Grays Harbor\, Inc. (GGHI) Business Forum Lunch! \n\n\n\nThis month's BFL will feature a special presentation by the Director of Grays Harbor County Public Health\, Mike McNickle. McNickle will discuss the latest services being offered by their organization and how they work to improve the health and well-being of our community. Additionally\, learn more about their brand new mobile medical van that can bring an exam room\, vaccine clinic\, and supplies directly to rural areas in the County. \n\n\n\nThe second portion of this BFL will feature a meet and greet with the brand new GGHI CEO\, Darrin Raines\, whose first day with the organization was July 1st. Join us to hear his goals and plans as he takes over this important role in the Grays Harbor community. \n\n\nThank you to our Lunch Sponsor\, Timberland Bank!\n\n\n\nLunch will be catered by Kit's Catering Kitchen and is included in the registration fee. If you have dietary restrictions\, please contact GGHI.\n\n\n\nIn order to plan and prepare for this event\, GGHI will close registrations at 5pm on Tuesday\, July 16th. Contact the GGHI office at (360) 532-7888 if you wish to be put on the waitlist after this time.\n\n\n\nAll guests are required to pre-register for this event. There will be no options to pay at the door and walk-ins will not be allowed. To register\, click the green 'Register' button on this page and follow the prompts. \n\n\n\nCancellations/Substitutions: If you register for the event but are unable to attend\, Greater Grays Harbor is still responsible for the cost of your luncheon/event reservation. If unable to attend\, substitutions are welcome any time prior to the event date. Registrants are responsible for the full event fee for any cancellation made after 5pm\, seven days prior to the event. Registration fees will not be refunded or waived after that date. No-shows will be charged the full registration fee.
X-ALT-DESC;FMTTYPE=text/html:<p style="margin: 0px\; font-stretch: normal\; font-size: 12px\; line-height: normal\; font-family: &quot\;Helvetica Neue&quot\;\;"><span style="font-family:arial\;"><span style="font-size:16px\;">Don&#39\;t miss the July Greater Grays Harbor\, Inc. (GGHI) Business Forum Lunch!&nbsp\;<br />\n<br />\nThis month&#39\;s BFL will feature&nbsp\;a special presentation by the Director of Grays Harbor County Public Health\, Mike McNickle. McNickle will discuss the latest services being offered by their organization and how they work to improve the health and well-being of our community. Additionally\, learn more about their&nbsp\;brand new mobile medical van that can bring an exam room\, vaccine clinic\, and supplies directly to&nbsp\;rural areas in the County.&nbsp\;</span></span><br />\n<br />\n<span style="font-family:arial\;"><span style="font-size:16px\;">The second portion of this BFL will feature a meet and greet with the brand new GGHI CEO\, Darrin Raines\, whose&nbsp\;first day with the organization was July 1st. Join us to hear his goals and plans as he takes over this important role in the Grays Harbor community.&nbsp\;</span></span></p>\n<br />\n<span style="font-family:arial\;"><span style="font-size:16px\;"><em><strong>Thank you to our Lunch Sponsor\, Timberland Bank!</strong></em><br />\n<br />\n<span style="caret-color: rgb(24\, 24\, 24)\; color: rgb(24\, 24\, 24)\;">Lunch will&nbsp\;be catered by&nbsp\;Kit&#39\;s Catering Kitchen&nbsp\;and is included in the registration fee. If you have dietary&nbsp\;restrictions\, please contact GGHI.</span><br />\n<br style="box-sizing: border-box\; caret-color: rgb(24\, 24\, 24)\; color: rgb(24\, 24\, 24)\; font-family: arial\; font-size: 14px\;" />\n<span style="box-sizing: border-box\; caret-color: rgb(24\, 24\, 24)\; color: rgb(24\, 24\, 24)\;"><span style="box-sizing: border-box\;"><span style="box-sizing: border-box\;">In order to plan and prepare for this event\,&nbsp\;<span style="box-sizing: border-box\;"><u style="box-sizing: border-box\;">GGHI will close&nbsp\;registrations&nbsp\;at 5pm on Tuesday\, July 16th.</u></span>&nbsp\;Contact the GGHI&nbsp\;office at (360) 532-7888 if you wish to be put on the waitlist after this time.</span></span><br style="box-sizing: border-box\;" />\n<br style="box-sizing: border-box\;" />\n<span style="box-sizing: border-box\; outline: 0px\;"><span style="box-sizing: border-box\; outline: 0px\;"><span style="box-sizing: border-box\;">All&nbsp\;guests are required to pre-register for this event.&nbsp\;<span style="box-sizing: border-box\; color: rgb(255\, 0\, 0)\;">There will be no options to pay at the door and&nbsp\;walk-ins will not be allowed.</span></span><span style="box-sizing: border-box\; color: rgb(255\, 0\, 0)\;">&nbsp\;</span>To register\, click the green &#39\;Register&#39\; button on this page and follow the prompts.&nbsp\;<br style="box-sizing: border-box\;" />\n<br style="box-sizing: border-box\;" />\n<span data-stringify-type="bold" style="box-sizing: inherit\; color: rgb(29\, 28\, 29)\; font-variant-ligatures: common-ligatures\; background-color: rgb(248\, 248\, 248)\;">Cancellations/Substitutions:&nbsp\;</span><span style="box-sizing: border-box\; outline: 0px\; color: rgb(29\, 28\, 29)\; font-variant-ligatures: common-ligatures\;">If you register for the event&nbsp\;but are unable to attend\, Greater Grays Harbor is still responsible for the cost of your luncheon/event reservation.</span><span data-stringify-type="bold" style="box-sizing: inherit\; color: rgb(29\, 28\, 29)\; font-variant-ligatures: common-ligatures\; background-color: rgb(248\, 248\, 248)\;">&nbsp\;</span><span style="box-sizing: border-box\; color: rgb(29\, 28\, 29)\; font-variant-ligatures: common-ligatures\;">If unable to attend\, substitutions are welcome any time prior to the event date. Registrants are responsible for the full event fee for any cancellation made after 5pm\, seven days prior to the event. Registration fees will not be refunded or waived after that date. No-shows will be charged the full registration fee.</span></span></span></span></span></span>
LOCATION:Rotary Log Pavilion 1401 Sargent Blvd Aberdeen\, WA
UID:e.26.14378
SEQUENCE:3
DTSTAMP:20260423T161429Z
URL:https://chamber.graysharbor.org/events/details/gghi-business-forum-lunch-gh-county-public-health-meet-the-new-gghi-ceo-14378
END:VEVENT

END:VCALENDAR
