BEGIN:VCALENDAR
VERSION:2.0
PRODID:-//ChamberMaster//Event Calendar 2.0//EN
METHOD:PUBLISH
X-PUBLISHED-TTL:P3D
REFRESH-INTERVAL:P3D
CALSCALE:GREGORIAN
BEGIN:VEVENT
DTSTART:20241119T193000Z
DTEND:20241119T210000Z
X-MICROSOFT-CDO-ALLDAYEVENT:FALSE
SUMMARY:GGHI Business Forum Lunch - Meet Your 2025 Grays Harbor County Commissioners
DESCRIPTION:Election season has arrived!\n\n\n\nJoin Greater Grays Harbor\, Inc. (GGHI) for a special November Business Forum Lunch introducing the 2025 Grays Harbor County Commissioners who serve as the County's legislative authority. Vickie Raines\, District No. 3 Grays Harbor County Commissioner\, will be in attendance as well as the two newly elected Commissioners filling the District No. 1 and No. 2 seats.\n\n\n\nEach Commissioner will introduce themselves to the crowd before joining in a moderated Q&A focusing on the most important topics affecting Grays Harbor County as well as their plans for their time in office. Additionally\, attendees will have the opportunity to submit their own questions to the Commissioners. After the election concludes and the results are solidified\, GGHI will update this event page to feature the District No. 1 and No. 2 Commissioners who will be in attendance. This event is open to the public.\n\n\n\nA catered buffet lunch by Kit's Catering Kitchen is included in the cost of the event. \n\n\n\nAll guests are required to pre-register for this event. There will be no options to pay at the door and walk-ins will not be allowed. To register\, click the green 'Register' button on this page and follow the prompts. \n\n\n\nCancellations/Substitutions: If you register for the event but are unable to attend\, Greater Grays Harbor is still responsible for the cost of your luncheon/event reservation. If unable to attend\, substitutions are welcome any time prior to the event date. Registrants are responsible for the full event fee for any cancellation made after 5pm\, seven days prior to the event. Registration fees will not be refunded or waived after that date. No-shows will be charged the full registration fee.
X-ALT-DESC;FMTTYPE=text/html:<span style="font-size:14px\;"><em>Election season has arrived!</em><br />\n<br />\nJoin Greater Grays Harbor\, Inc. (GGHI) for a special November Business Forum Lunch introducing the 2025 Grays Harbor County Commissioners who serve as the County&#39\;s legislative authority. Vickie Raines\, District No. 3 Grays Harbor County Commissioner\, will be in attendance as well as the two newly elected Commissioners filling the District No. 1 and No. 2 seats.<br />\n<br />\nEach Commissioner will introduce themselves to the crowd before joining in a moderated Q&amp\;A focusing on the most important topics affecting Grays Harbor County as well as their plans for their time in office. Additionally\, attendees will have the opportunity to submit their own questions to the Commissioners.&nbsp\;<u>After the election concludes and the results are solidified\, GGHI will update this event page to feature the District No. 1 and No. 2 Commissioners who will be in attendance.</u> This event is open to the public.</span><br />\n<br />\n<span style="color: rgb(24\, 24\, 24)\; font-family: arial\; font-size: 14px\;">A catered buffet lunch by Kit&#39\;s Catering Kitchen is included in the cost of the event.&nbsp\;</span><br style="box-sizing: border-box\; color: rgb(24\, 24\, 24)\; font-family: arial\; font-size: 14px\;" />\n<br style="box-sizing: border-box\; color: rgb(24\, 24\, 24)\; font-family: arial\; font-size: 14px\;" />\n<span style="box-sizing: border-box\; color: rgb(24\, 24\, 24)\; font-family: arial\; font-size: 14px\; font-weight: bolder\;">All&nbsp\;guests are required to pre-register for this event.&nbsp\;<span style="box-sizing: border-box\; color: rgb(255\, 0\, 0)\;">There will be no options to pay at the door and&nbsp\;walk-ins will not be allowed.</span></span><span style="box-sizing: border-box\; font-family: arial\; font-size: 14px\; color: rgb(255\, 0\, 0)\;">&nbsp\;</span><span style="color: rgb(24\, 24\, 24)\; font-family: arial\; font-size: 14px\;">To register\, click the green &#39\;Register&#39\; button on this page and follow the prompts.&nbsp\;</span><br style="box-sizing: border-box\; color: rgb(24\, 24\, 24)\; font-family: arial\; font-size: 12px\;" />\n<br style="box-sizing: border-box\; color: rgb(24\, 24\, 24)\; font-family: arial\; font-size: 12px\;" />\n<span data-stringify-type="bold" style="box-sizing: inherit\; font-family: arial\; font-size: 14px\; font-weight: bolder\; color: rgb(29\, 28\, 29)\; font-variant-ligatures: common-ligatures\; background-color: rgb(248\, 248\, 248)\;">Cancellations/Substitutions:&nbsp\;</span><span style="box-sizing: border-box\; font-family: arial\; font-size: 14px\; color: rgb(29\, 28\, 29)\; font-variant-ligatures: common-ligatures\;">If you register for the event&nbsp\;but are unable to attend\, Greater Grays Harbor is still responsible for the cost of your luncheon/event reservation.</span><span data-stringify-type="bold" style="box-sizing: inherit\; font-family: arial\; font-size: 14px\; font-weight: bolder\; color: rgb(29\, 28\, 29)\; font-variant-ligatures: common-ligatures\; background-color: rgb(248\, 248\, 248)\;">&nbsp\;</span><span style="box-sizing: border-box\; font-family: arial\; font-size: 14px\; color: rgb(29\, 28\, 29)\; font-variant-ligatures: common-ligatures\;">If unable to attend\, substitutions are welcome any time prior to the event date. Registrants are responsible for the full event fee for any cancellation made after 5pm\, seven days prior to the event. Registration fees will not be refunded or waived after that date. No-shows will be charged the full registration fee.</span>
LOCATION:Rotary Log Pavilion 1401 Sargent Blvd Aberdeen\, WA
UID:e.26.14842
SEQUENCE:3
DTSTAMP:20260423T174435Z
URL:https://chamber.graysharbor.org/events/details/gghi-business-forum-lunch-meet-your-2025-grays-harbor-county-commissioners-14842
END:VEVENT

END:VCALENDAR
