BEGIN:VCALENDAR
VERSION:2.0
PRODID:-//ChamberMaster//Event Calendar 2.0//EN
METHOD:PUBLISH
X-PUBLISHED-TTL:P3D
REFRESH-INTERVAL:P3D
CALSCALE:GREGORIAN
BEGIN:VEVENT
DTSTART:20260526T183000Z
DTEND:20260526T200000Z
X-MICROSOFT-CDO-ALLDAYEVENT:FALSE
SUMMARY:GGHI Business Forum Lunch - Topic TBD
DESCRIPTION:Details coming soon!
X-ALT-DESC;FMTTYPE=text/html:Details coming soon!
LOCATION:Rotary Log Pavilion 1401Sargent Blvd Aberdeen\, WA
UID:e.26.16416
SEQUENCE:3
DTSTAMP:20260424T022501Z
URL:https://chamber.graysharbor.org/events/details/gghi-business-forum-lunch-topic-tbd-16416
END:VEVENT

END:VCALENDAR
