BEGIN:VCALENDAR
VERSION:2.0
PRODID:-//ChamberMaster//Event Calendar 2.0//EN
METHOD:PUBLISH
X-PUBLISHED-TTL:P3D
REFRESH-INTERVAL:P3D
CALSCALE:GREGORIAN
BEGIN:VEVENT
DTSTART:20230926T183000Z
DTEND:20230926T200000Z
X-MICROSOFT-CDO-ALLDAYEVENT:FALSE
SUMMARY:GGHI Business Forum Luncheon - Commercial and Public Development
DESCRIPTION:This month's Greater Grays Harbor\, Inc. Business Forum Lunch is set for Tuesday\, September 26th at the Rotary Log Pavilion in Aberdeen. Various presenters will be on-site to present on the topic of 'Commercial and Public Development' and the growth that Grays Harbor County is experiencing. Speakers will provide attendees with updates on regional public and private infrastructure and property development and the event will be moderated by KXRO's\, Kyle Pauley. \n\n\n\nConfirmed Speakers Include:\n\n	Summit Pacific Medical Center\n	\n		 Presenting on Summit Pacific's current facilities and expansion plans\n	\n	\n	Port of Grays Harbor\n	\n		 Presenting on terminal improvements and tenant expansion \n	\n	\n	City of Hoquiam\n	\n		 Presenting on Aberdeen-Hoquiam Flood Protection Projects\n	\n	\n	City of Aberdeen\n	\n		 Presenting on Hwy. 12 Rail Separation Project\n	\n	\n\nCancellations/Substitutions: If you register for the event but are unable to attend\, Greater Grays Harbor is still responsible for the cost of your luncheon/event reservation. If unable to attend\, substitutions are welcome any time prior to the event date. Registrants are responsible for the full event fee for any cancellation made after 5pm\, seven days prior to the event. Registration fees will not be refunded or waived after that date. No-shows will be charged the full registration fee.
X-ALT-DESC;FMTTYPE=text/html:<font face="arial"><span style="font-size: 14px\;">This month&#39\;s Greater Grays Harbor\, Inc. Business Forum Lunch is set for Tuesday\, September 26th at the Rotary Log Pavilion in Aberdeen. Various presenters will be on-site to present on the topic of &#39\;Commercial and Public Development&#39\; and the growth that Grays Harbor County is experiencing. Speakers will provide attendees with updates on regional public and&nbsp\;private&nbsp\;infrastructure and property development and the event will be moderated by KXRO&#39\;s\, Kyle Pauley.&nbsp\;</span></font><br />\n<br />\n<span style="font-size:14px\;"><u><strong>Confirmed Speakers Include:</strong></u></span>\n<ul>\n	<li><u><span style="font-size:14px\;">Summit Pacific Medical Center</span></u>\n	<ul>\n		<li><span style="font-size:14px\;">&#8203\;Presenting on Summit Pacific&#39\;s current facilities and expansion plans</span></li>\n	</ul>\n	</li>\n	<li><u><span style="font-size: 14px\;">Port of Grays Harbor</span></u>\n	<ul>\n		<li><span style="font-size: 14px\;">&#8203\;Presenting on terminal improvements and tenant expansion&nbsp\;</span></li>\n	</ul>\n	</li>\n	<li><u><span style="font-size: 14px\;">City of Hoquiam</span></u>\n	<ul>\n		<li><u><span style="font-size: 14px\;">&#8203\;</span></u><span style="font-size: 14px\;">Presenting on Aberdeen-Hoquiam Flood Protection Projects</span></li>\n	</ul>\n	</li>\n	<li><u><span style="font-size: 14px\;">City of Aberdeen</span></u>\n	<ul>\n		<li><span style="font-size: 14px\;">&#8203\;Presenting on Hwy. 12 Rail Separation Project</span></li>\n	</ul>\n	</li>\n</ul>\n<b style="font-family: arial\; font-size: 14px\;">Cancellations/Substitutions:&nbsp\;</b><span style="font-family: arial\; font-size: 14px\;">If you register for the event&nbsp\;but are unable to attend\, Greater Grays Harbor is still responsible for the cost of your luncheon/event reservation.</span><b style="font-family: arial\; font-size: 14px\;">&nbsp\;</b><span style="font-family: arial\; font-size: 14px\;">If unable to attend\, substitutions are welcome any time prior to the event date. Registrants are responsible for the full event fee for any cancellation made after 5pm\, seven days prior to the event. Registration fees will not be refunded or waived after that date. No-shows will be charged the full registration fee.</span>
LOCATION:Aberdeen Rotary Log Pavilion 141 Sargent Blvd. Aberdeen\, WA 98520
UID:e.26.13875
SEQUENCE:3
DTSTAMP:20260423T192114Z
URL:https://chamber.graysharbor.org/events/details/gghi-business-forum-luncheon-commercial-and-public-development-13875
END:VEVENT

END:VCALENDAR
