BEGIN:VCALENDAR
VERSION:2.0
PRODID:-//ChamberMaster//Event Calendar 2.0//EN
METHOD:PUBLISH
X-PUBLISHED-TTL:P3D
REFRESH-INTERVAL:P3D
CALSCALE:GREGORIAN
BEGIN:VEVENT
DTSTART:20231128T193000Z
DTEND:20231128T210000Z
X-MICROSOFT-CDO-ALLDAYEVENT:FALSE
SUMMARY:GGHI Business Forum Luncheon - TBD
DESCRIPTION:Monthly Greater Grays Harbor\, Inc. Business Forum Luncheon\n\nCelebrate Grays Harbor!\n\n\n\nAll guests are required to pre-register for this event. There will be no options to pay at the door and walk-ins will not be allowed. To register\, click the green 'Register' button on this page and follow the prompts. \n\n\n\nCancellations/Substitutions: If you register for the event but are unable to attend\, Greater Grays Harbor is still responsible for the cost of your luncheon/event reservation. If unable to attend\, substitutions are welcome any time prior to the event date. Registrants are responsible for the full event fee for any cancellation made after 5pm\, seven days prior to the event. Registration fees will not be refunded or waived after that date. No-shows will be charged the full registration fee.
X-ALT-DESC;FMTTYPE=text/html:<span style="font-size:14px\;">Monthly Greater Grays Harbor\, Inc. Business Forum Luncheon<br />\nCelebrate Grays Harbor!<br />\n<br />\n<span style="font-family: arial\;"><strong>All&nbsp\;guests are required to pre-register for this event.&nbsp\;<span style="color: rgb(255\, 0\, 0)\;">There will be no options to pay at the door and&nbsp\;walk-ins will not be allowed.</span></strong><span style="color: rgb(255\, 0\, 0)\;">&nbsp\;</span>To register\, click the green &#39\;Register&#39\; button on this page and follow the prompts.&nbsp\;</span><br style="font-family: arial\; font-size: 12px\;" />\n<br style="font-family: arial\; font-size: 12px\;" />\n<span style="font-family: arial\;"><b data-stringify-type="bold" style="box-sizing: inherit\; color: rgb(29\, 28\, 29)\; font-family: Slack-Lato\, Slack-Fractions\, appleLogo\, sans-serif\; font-size: 15px\; font-variant-ligatures: common-ligatures\; background-color: rgb(248\, 248\, 248)\;">Cancellations/Substitutions:&nbsp\;</b><span style="color: rgb(29\, 28\, 29)\; font-variant-ligatures: common-ligatures\;">If you register for the event&nbsp\;but are unable to attend\, Greater Grays Harbor is still responsible for the cost of your luncheon/event reservation.</span><b data-stringify-type="bold" style="box-sizing: inherit\; color: rgb(29\, 28\, 29)\; font-family: Slack-Lato\, Slack-Fractions\, appleLogo\, sans-serif\; font-size: 15px\; font-variant-ligatures: common-ligatures\; background-color: rgb(248\, 248\, 248)\;">&nbsp\;</b><span style="color: rgb(29\, 28\, 29)\; font-variant-ligatures: common-ligatures\;">If unable to attend\, substitutions are welcome any time prior to the event date. Registrants are responsible for the full event fee for any cancellation made after 5pm\, seven days prior to the event. Registration fees will not be refunded or waived after that date. No-shows will be charged the full registration fee.</span></span></span>
LOCATION:Aberdeen Rotary Log Pavilion 141 Sargent Blvd. Aberdeen\, WA 98520
UID:e.26.13877
SEQUENCE:3
DTSTAMP:20260423T192108Z
URL:https://chamber.graysharbor.org/events/details/gghi-business-forum-luncheon-tbd-13877
END:VEVENT

END:VCALENDAR
