BEGIN:VCALENDAR
VERSION:2.0
PRODID:-//ChamberMaster//Event Calendar 2.0//EN
METHOD:PUBLISH
X-PUBLISHED-TTL:P3D
REFRESH-INTERVAL:P3D
CALSCALE:GREGORIAN
BEGIN:VEVENT
DTSTART:20190709T150000Z
DTEND:20190709T160000Z
X-MICROSOFT-CDO-ALLDAYEVENT:FALSE
SUMMARY:GGHI Government Affairs Committee Meeting
DESCRIPTION:Greater Grays Harbor\, Inc. will be holding a Government Affairs Committee meeting on Tuesday\, July 9th from 8am - 9am. If you would like to learn how you can get involved\, gain a better understanding of many of the issues being debated in Olympia\, and show your support for policies that improve the business climate and our local infrastructure\, then please plan on attending.\n\nThe purpose of this meeting is to discuss our plans and activities related to the upcoming 2019 - 2020 Legislative Session. All GGHI members in good standing are invited to join us. This is an excellent opportunity to learn more about our current advocacy efforts as well as plans for the future.\n\nTo RSVP\, please contact Candie Gleason by no later than July 5th at candie@graysharbor.orgor simply RSVP through this flyer.
X-ALT-DESC;FMTTYPE=text/html:<div class="widget widget-text-paragraph var-paragraph-standard" id="w-7540973072" style="caret-color: rgb(0\, 0\, 0)\; color: rgb(0\, 0\, 0)\; margin: 0px\; padding: 10px 0px 0px\; font-size: 10px\; font-family: Roboto\, &quot\;Lucida Grande&quot\;\, arial\, sans-serif\;">\n<div class="pagegrid" style="margin: 0px auto\; padding: 0px\; position: relative\; width: 700px\;">\n<div class="row" style="margin: 0px\; padding: 0px\;">\n<div class="six columns alpha omega" style="margin: 0px\; padding: 0px\; float: left\; display: inline\; width: 700px\;">\n<div class="content" style="margin: 0px\; padding: 15px 35px\;">\n<div class="theme-p theme-color-4" data-target="content" style="margin: 0px\; padding: 0px 0px 12px\; line-height: 1.55\; font-size: 1.5em\; word-wrap: break-word\; color: rgb(94\, 94\, 94)\;">\n<p style="margin: 0px\; padding: 0px\;"><span style="font-size:14px\;"><span style="font-family:arial\;">Greater Grays Harbor\, Inc. will be holding a Government Affairs Committee meeting on Tuesday\, July 9th from 8am - 9am. If you would like to learn how you can get involved\, gain a better understanding of many of the issues being debated in Olympia\, and show your support for policies that improve the business climate and our local infrastructure\, then please plan on attending.</span></span></p>\n\n<p style="margin: 0px\; padding: 0px\;"><span style="font-size:14px\;"><span style="font-family:arial\;">The purpose of this meeting is to discuss our plans and activities related to the upcoming 2019 - 2020 Legislative Session. All GGHI members in good standing are invited to join us. This is an excellent opportunity to learn more about our current advocacy efforts as well as plans for the future.</span></span></p>\n\n<p style="margin: 0px\; padding: 0px\;"><span style="font-size:14px\;"><span style="font-family:arial\;">To RSVP\, please contact Candie Gleason by no later than July 5th at&nbsp\;<a data-id="l-0450889802" href="mailto:candie@graysharbor.org" rel="nofollow" style="cursor: pointer\; color: rgb(28\, 110\, 152)\;" target="_blank">candie@graysharbor.org</a>or simply RSVP through this flyer.&nbsp\;</span></span></p>\n</div>\n</div>\n</div>\n</div>\n</div>\n</div>\n
LOCATION:GGHI Conference Room 506 Duffy St. Aberdeen\, WA
UID:e.26.12062
SEQUENCE:3
DTSTAMP:20260424T104622Z
URL:https://chamber.graysharbor.org/events/details/gghi-government-affairs-committee-meeting-12062
END:VEVENT

END:VCALENDAR
