BEGIN:VCALENDAR
VERSION:2.0
PRODID:-//ChamberMaster//Event Calendar 2.0//EN
METHOD:PUBLISH
X-PUBLISHED-TTL:P3D
REFRESH-INTERVAL:P3D
CALSCALE:GREGORIAN
BEGIN:VEVENT
DTSTART:20171021T003000Z
DTEND:20171021T043000Z
X-MICROSOFT-CDO-ALLDAYEVENT:FALSE
SUMMARY:GGHI Leaders Banquet and Business Recognition Awards 2017
DESCRIPTION:Mark your calendars for Greater Grays Harbor's biggest event of the year!\n\nThis year's theme will be:\n\nJourney to Success - Don't Stop Believing \n\n \n\nThere will be a Silent and Live Auction benefiting GGHI's many programs\, including the Education Fund that benefits school programs throughout the county.\n\n \n\nAwards will be distributed to the top businesses voted on by the Grays Harbor community.\n\n \n\nThere is also the opportunity for businesses to sponsor a table and decorate them in accordance with the theme\, resulting in a fun voting process for the best table of the night. You won't want to miss this fun evening at QBRC in Ocean Shores!
X-ALT-DESC;FMTTYPE=text/html:<p style="margin: 0px\; padding: 0px\; text-align: center\; color: rgb(102\, 102\, 102)\; font-family: &quot\;Open Sans&quot\;\, &quot\;Lucida Grande&quot\;\, arial\, sans-serif\; font-size: 14px\; background-color: rgb(255\, 255\, 255)\;"><em style="font-weight: inherit\;">Mark your calendars&nbsp\;</em>for Greater Grays Harbor&#39\;s biggest event of the year!</p>\n\n<p style="margin: 0px\; padding: 0px\; text-align: center\; color: rgb(102\, 102\, 102)\; font-family: &quot\;Open Sans&quot\;\, &quot\;Lucida Grande&quot\;\, arial\, sans-serif\; font-size: 14px\; background-color: rgb(255\, 255\, 255)\;">This year&#39\;s theme will be:</p>\n\n<p style="margin: 0px\; padding: 0px\; text-align: center\; color: rgb(102\, 102\, 102)\; font-family: &quot\;Open Sans&quot\;\, &quot\;Lucida Grande&quot\;\, arial\, sans-serif\; font-size: 14px\; background-color: rgb(255\, 255\, 255)\;"><span style="font-style: inherit\; font-weight: 700\;">Journey to Success - Don&#39\;t Stop Believing<em style="font-weight: inherit\;">&nbsp\;</em></span></p>\n\n<p style="margin: 0px\; padding: 0px\; text-align: center\; color: rgb(102\, 102\, 102)\; font-family: &quot\;Open Sans&quot\;\, &quot\;Lucida Grande&quot\;\, arial\, sans-serif\; font-size: 14px\; background-color: rgb(255\, 255\, 255)\;">&nbsp\;</p>\n\n<p style="margin: 0px\; padding: 0px\; text-align: center\; color: rgb(102\, 102\, 102)\; font-family: &quot\;Open Sans&quot\;\, &quot\;Lucida Grande&quot\;\, arial\, sans-serif\; font-size: 14px\; background-color: rgb(255\, 255\, 255)\;">There will be a Silent and Live Auction benefiting GGHI&#39\;s many programs\, including the Education Fund that benefits school programs throughout the county.</p>\n\n<p style="margin: 0px\; padding: 0px\; text-align: center\; color: rgb(102\, 102\, 102)\; font-family: &quot\;Open Sans&quot\;\, &quot\;Lucida Grande&quot\;\, arial\, sans-serif\; font-size: 14px\; background-color: rgb(255\, 255\, 255)\;">&nbsp\;</p>\n\n<p style="margin: 0px\; padding: 0px\; text-align: center\; color: rgb(102\, 102\, 102)\; font-family: &quot\;Open Sans&quot\;\, &quot\;Lucida Grande&quot\;\, arial\, sans-serif\; font-size: 14px\; background-color: rgb(255\, 255\, 255)\;">Awards will be distributed to the top businesses voted on by the Grays Harbor community.<br />\n&nbsp\;</p>\n\n<p style="margin: 0px\; padding: 0px\; text-align: center\; color: rgb(102\, 102\, 102)\; font-family: &quot\;Open Sans&quot\;\, &quot\;Lucida Grande&quot\;\, arial\, sans-serif\; font-size: 14px\; background-color: rgb(255\, 255\, 255)\;">There is also the opportunity for businesses to sponsor a table and decorate them in accordance with the theme\, resulting in a fun voting process for the best table of the night. You won&#39\;t want to miss this fun evening at QBRC in Ocean Shores!</p>\n
LOCATION:Quinault Beach Resort and Casino Ocean Shores\, WA
UID:e.26.8169
SEQUENCE:3
DTSTAMP:20260425T201536Z
URL:https://chamber.graysharbor.org/events/details/gghi-leaders-banquet-and-business-recognition-awards-2017-8169
END:VEVENT

END:VCALENDAR
