BEGIN:VCALENDAR
VERSION:2.0
PRODID:-//ChamberMaster//Event Calendar 2.0//EN
METHOD:PUBLISH
X-PUBLISHED-TTL:P3D
REFRESH-INTERVAL:P3D
CALSCALE:GREGORIAN
BEGIN:VEVENT
DTSTART:20260116T153000Z
DTEND:20260116T160000Z
X-MICROSOFT-CDO-ALLDAYEVENT:FALSE
SUMMARY:GGHI Legislative Affairs Weekly Briefing
DESCRIPTION:Take advantage of your GGHI membership by gaining exclusive access to Grays Harbor State Legislators throughout the 2026 Legislative Session. Every Friday from 7:30-8:00am GGHI will be joined by a member of the Coastal Caucus to hear an update on the legislative session\, budget development\, and priority policies for the region. Bring your questions\, a willingness to learn and your caffeine of choice!\n\n\n\nTENTATIVE SCHEDULE (subject to legislator availability\, adjustments may be made):\n\n\n	January 16   GGHI State Lobbyists share context for session\, overview of GGHI priorities and answer questions\n	January 23   Sen. Wilson\n	January 30   Rep. McEntire\n	February 6   Rep. Walsh\n	February 13   Rep. Bernbaum\n	February 20   Sen. Chapman\n	February 27   TBD\n	March 6   All legislators invited - Final Legislative Affairs Briefing \n\n\nOnce you sign up for one Legislative Affairs Briefing\, your email will then be automatically signed up for each Briefing. There are no obligations to attend each meeting\, but we want to ensure you're on the list.
X-ALT-DESC;FMTTYPE=text/html:<p class="x_x_MsoNormal" style="margin: 0in\; font-size: 12pt\; font-family: Aptos\, sans-serif\; color: rgb(36\, 36\, 36)\;"><span style="font-size:16px\;"><i data-olk-copy-source="MessageBody">Take advantage of your GGHI membership by gaining exclusive access to Grays Harbor State Legislators throughout the 2026 Legislative Session. Every Friday from 7:30-8:00am GGHI will be joined by a member of the Coastal Caucus to hear an update on the legislative session\, budget development\, and priority policies for the region. Bring your questions\, a willingness to learn and your caffeine of choice!</i></span></p>\n\n<p class="x_x_MsoNormal" style="margin: 0in\; font-size: 12pt\; font-family: Aptos\, sans-serif\; color: rgb(36\, 36\, 36)\;"><br />\n<span style="font-size:16px\;"><strong>TENTATIVE SCHEDULE&nbsp\;(subject to legislator availability\, adjustments may be made):</strong></span></p>\n\n<ul>\n	<li aria-hidden="true" class="x_x_MsoNormal" style="margin: 0in\; font-size: 12pt\; font-family: Aptos\, sans-serif\; color: rgb(36\, 36\, 36)\;"><span style="font-size:16px\;">January 16 &ndash\; GGHI State Lobbyists share context for session\, overview of GGHI priorities and answer questions</span></li>\n	<li aria-hidden="true" class="x_x_MsoNormal" style="margin: 0in\; font-size: 12pt\; font-family: Aptos\, sans-serif\; color: rgb(36\, 36\, 36)\;"><span style="font-size:16px\;"><span style="font-size:16px\;">January 23 &ndash\; Sen. Wilson</span></span></li>\n	<li aria-hidden="true" class="x_x_MsoNormal" style="margin: 0in\; font-size: 12pt\; font-family: Aptos\, sans-serif\; color: rgb(36\, 36\, 36)\;"><span style="font-size:16px\;"><span style="font-size:16px\;"><span style="font-size:16px\;"><span style="border: 0px\; font-style: inherit\; font-variant: inherit\; font-weight: inherit\; font-stretch: inherit\; line-height: inherit\; font-optical-sizing: inherit\; font-size-adjust: inherit\; font-kerning: inherit\; font-feature-settings: inherit\; font-variation-settings: inherit\; font-language-override: inherit\; margin: 0px\; padding: 0px\; vertical-align: baseline\; color: black !important\;">January 30 &ndash\; Rep. McEntire</span></span></span></span></li>\n	<li aria-hidden="true" class="x_x_MsoNormal" style="margin: 0in\; font-size: 12pt\; font-family: Aptos\, sans-serif\; color: rgb(36\, 36\, 36)\;"><span style="font-size:16px\;"><span style="font-size:16px\;"><span style="font-size:16px\;"><span style="border: 0px\; font-style: inherit\; font-variant: inherit\; font-weight: inherit\; font-stretch: inherit\; line-height: inherit\; font-optical-sizing: inherit\; font-size-adjust: inherit\; font-kerning: inherit\; font-feature-settings: inherit\; font-variation-settings: inherit\; font-language-override: inherit\; margin: 0px\; padding: 0px\; vertical-align: baseline\; color: black !important\;"><span style="font-size:16px\;"><span style="border: 0px\; font-style: inherit\; font-variant: inherit\; font-weight: inherit\; font-stretch: inherit\; line-height: inherit\; font-optical-sizing: inherit\; font-size-adjust: inherit\; font-kerning: inherit\; font-feature-settings: inherit\; font-variation-settings: inherit\; font-language-override: inherit\; margin: 0px\; padding: 0px\; vertical-align: baseline\; color: black !important\;">February 6 &ndash\; Rep. Walsh</span></span></span></span></span></span></li>\n	<li aria-hidden="true" class="x_x_MsoNormal" style="margin: 0in\; font-size: 12pt\; font-family: Aptos\, sans-serif\; color: rgb(36\, 36\, 36)\;"><span style="font-size:16px\;"><span style="font-size:16px\;"><span style="font-size:16px\;"><span style="border: 0px\; font-style: inherit\; font-variant: inherit\; font-weight: inherit\; font-stretch: inherit\; line-height: inherit\; font-optical-sizing: inherit\; font-size-adjust: inherit\; font-kerning: inherit\; font-feature-settings: inherit\; font-variation-settings: inherit\; font-language-override: inherit\; margin: 0px\; padding: 0px\; vertical-align: baseline\; color: black !important\;"><span style="font-size:16px\;"><span style="border: 0px\; font-style: inherit\; font-variant: inherit\; font-weight: inherit\; font-stretch: inherit\; line-height: inherit\; font-optical-sizing: inherit\; font-size-adjust: inherit\; font-kerning: inherit\; font-feature-settings: inherit\; font-variation-settings: inherit\; font-language-override: inherit\; margin: 0px\; padding: 0px\; vertical-align: baseline\; color: black !important\;"><span style="font-size:16px\;"><span style="border: 0px\; font-style: inherit\; font-variant: inherit\; font-weight: inherit\; font-stretch: inherit\; line-height: inherit\; font-optical-sizing: inherit\; font-size-adjust: inherit\; font-kerning: inherit\; font-feature-settings: inherit\; font-variation-settings: inherit\; font-language-override: inherit\; margin: 0px\; padding: 0px\; vertical-align: baseline\; color: black !important\;">February 13 &ndash\; Rep. Bernbaum</span></span></span></span></span></span></span></span></li>\n	<li aria-hidden="true" class="x_x_MsoNormal" style="margin: 0in\; font-size: 12pt\; font-family: Aptos\, sans-serif\; color: rgb(36\, 36\, 36)\;"><span style="font-size:16px\;"><span style="font-size:16px\;"><span style="font-size:16px\;"><span style="border: 0px\; font-style: inherit\; font-variant: inherit\; font-weight: inherit\; font-stretch: inherit\; line-height: inherit\; font-optical-sizing: inherit\; font-size-adjust: inherit\; font-kerning: inherit\; font-feature-settings: inherit\; font-variation-settings: inherit\; font-language-override: inherit\; margin: 0px\; padding: 0px\; vertical-align: baseline\; color: black !important\;"><span style="font-size:16px\;"><span style="border: 0px\; font-style: inherit\; font-variant: inherit\; font-weight: inherit\; font-stretch: inherit\; line-height: inherit\; font-optical-sizing: inherit\; font-size-adjust: inherit\; font-kerning: inherit\; font-feature-settings: inherit\; font-variation-settings: inherit\; font-language-override: inherit\; margin: 0px\; padding: 0px\; vertical-align: baseline\; color: black !important\;"><span style="font-size:16px\;"><span style="border: 0px\; font-style: inherit\; font-variant: inherit\; font-weight: inherit\; font-stretch: inherit\; line-height: inherit\; font-optical-sizing: inherit\; font-size-adjust: inherit\; font-kerning: inherit\; font-feature-settings: inherit\; font-variation-settings: inherit\; font-language-override: inherit\; margin: 0px\; padding: 0px\; vertical-align: baseline\; color: black !important\;"><span style="font-size:16px\;"><span style="border: 0px\; font-style: inherit\; font-variant: inherit\; font-weight: inherit\; font-stretch: inherit\; line-height: inherit\; font-optical-sizing: inherit\; font-size-adjust: inherit\; font-kerning: inherit\; font-feature-settings: inherit\; font-variation-settings: inherit\; font-language-override: inherit\; margin: 0px\; padding: 0px\; vertical-align: baseline\; color: black !important\;">February 20 &ndash\; Sen. Chapman</span></span></span></span></span></span></span></span></span></span></li>\n	<li aria-hidden="true" class="x_x_MsoNormal" style="margin: 0in\; font-size: 12pt\; font-family: Aptos\, sans-serif\; color: rgb(36\, 36\, 36)\;"><span style="font-size:16px\;"><span style="font-size:16px\;"><span style="font-size:16px\;"><span style="border: 0px\; font-style: inherit\; font-variant: inherit\; font-weight: inherit\; font-stretch: inherit\; line-height: inherit\; font-optical-sizing: inherit\; font-size-adjust: inherit\; font-kerning: inherit\; font-feature-settings: inherit\; font-variation-settings: inherit\; font-language-override: inherit\; margin: 0px\; padding: 0px\; vertical-align: baseline\; color: black !important\;"><span style="font-size:16px\;"><span style="border: 0px\; font-style: inherit\; font-variant: inherit\; font-weight: inherit\; font-stretch: inherit\; line-height: inherit\; font-optical-sizing: inherit\; font-size-adjust: inherit\; font-kerning: inherit\; font-feature-settings: inherit\; font-variation-settings: inherit\; font-language-override: inherit\; margin: 0px\; padding: 0px\; vertical-align: baseline\; color: black !important\;"><span style="font-size:16px\;"><span style="border: 0px\; font-style: inherit\; font-variant: inherit\; font-weight: inherit\; font-stretch: inherit\; line-height: inherit\; font-optical-sizing: inherit\; font-size-adjust: inherit\; font-kerning: inherit\; font-feature-settings: inherit\; font-variation-settings: inherit\; font-language-override: inherit\; margin: 0px\; padding: 0px\; vertical-align: baseline\; color: black !important\;"><span style="font-size:16px\;"><span style="border: 0px\; font-style: inherit\; font-variant: inherit\; font-weight: inherit\; font-stretch: inherit\; line-height: inherit\; font-optical-sizing: inherit\; font-size-adjust: inherit\; font-kerning: inherit\; font-feature-settings: inherit\; font-variation-settings: inherit\; font-language-override: inherit\; margin: 0px\; padding: 0px\; vertical-align: baseline\; color: black !important\;"><span style="font-size:16px\;"><span style="border: 0px\; font-style: inherit\; font-variant: inherit\; font-weight: inherit\; font-stretch: inherit\; line-height: inherit\; font-optical-sizing: inherit\; font-size-adjust: inherit\; font-kerning: inherit\; font-feature-settings: inherit\; font-variation-settings: inherit\; font-language-override: inherit\; margin: 0px\; padding: 0px\; vertical-align: baseline\; color: black !important\;">February 27 &ndash\; TBD</span></span></span></span></span></span></span></span></span></span></span></span></li>\n	<li aria-hidden="true" class="x_x_MsoNormal" style="margin: 0in\; font-size: 12pt\; font-family: Aptos\, sans-serif\; color: rgb(36\, 36\, 36)\;"><span style="font-size:16px\;"><span style="font-size:16px\;"><span style="font-size:16px\;"><span style="border: 0px\; font-style: inherit\; font-variant: inherit\; font-weight: inherit\; font-stretch: inherit\; line-height: inherit\; font-optical-sizing: inherit\; font-size-adjust: inherit\; font-kerning: inherit\; font-feature-settings: inherit\; font-variation-settings: inherit\; font-language-override: inherit\; margin: 0px\; padding: 0px\; vertical-align: baseline\; color: black !important\;"><span style="font-size:16px\;"><span style="border: 0px\; font-style: inherit\; font-variant: inherit\; font-weight: inherit\; font-stretch: inherit\; line-height: inherit\; font-optical-sizing: inherit\; font-size-adjust: inherit\; font-kerning: inherit\; font-feature-settings: inherit\; font-variation-settings: inherit\; font-language-override: inherit\; margin: 0px\; padding: 0px\; vertical-align: baseline\; color: black !important\;"><span style="font-size:16px\;"><span style="border: 0px\; font-style: inherit\; font-variant: inherit\; font-weight: inherit\; font-stretch: inherit\; line-height: inherit\; font-optical-sizing: inherit\; font-size-adjust: inherit\; font-kerning: inherit\; font-feature-settings: inherit\; font-variation-settings: inherit\; font-language-override: inherit\; margin: 0px\; padding: 0px\; vertical-align: baseline\; color: black !important\;"><span style="font-size:16px\;"><span style="border: 0px\; font-style: inherit\; font-variant: inherit\; font-weight: inherit\; font-stretch: inherit\; line-height: inherit\; font-optical-sizing: inherit\; font-size-adjust: inherit\; font-kerning: inherit\; font-feature-settings: inherit\; font-variation-settings: inherit\; font-language-override: inherit\; margin: 0px\; padding: 0px\; vertical-align: baseline\; color: black !important\;"><span style="font-size:16px\;"><span style="border: 0px\; font-style: inherit\; font-variant: inherit\; font-weight: inherit\; font-stretch: inherit\; line-height: inherit\; font-optical-sizing: inherit\; font-size-adjust: inherit\; font-kerning: inherit\; font-feature-settings: inherit\; font-variation-settings: inherit\; font-language-override: inherit\; margin: 0px\; padding: 0px\; vertical-align: baseline\; color: black !important\;"><span style="font-size:16px\;"><span style="border: 0px\; font-style: inherit\; font-variant: inherit\; font-weight: inherit\; font-stretch: inherit\; line-height: inherit\; font-optical-sizing: inherit\; font-size-adjust: inherit\; font-kerning: inherit\; font-feature-settings: inherit\; font-variation-settings: inherit\; font-language-override: inherit\; margin: 0px\; padding: 0px\; vertical-align: baseline\; color: black !important\;">March 6 &ndash\; All legislators invited - Final Legislative Affairs Briefing&nbsp\;</span></span></span></span></span></span></span></span></span></span></span></span></span></span></li>\n</ul>\n\n<p class="x_x_elementtoproof" style="margin: 0in\; font-size: 12pt\; font-family: Aptos\, sans-serif\; color: rgb(36\, 36\, 36)\; background-image: initial\; background-position: initial\; background-size: initial\; background-repeat: initial\; background-attachment: initial\; background-origin: initial\; background-clip: initial\;"><span style="font-size:16px\;"><strong style="color: rgb(24\, 24\, 24)\; font-family: arial\; font-size: 14px\;">Once you sign up for one Legislative Affairs Briefing\, your email will then be automatically signed up for each Briefing. There are no obligations to attend each meeting\, but we want to ensure you&#39\;re on the list.&nbsp\;</strong></span></p>\n
LOCATION:Meetings will take place virtually on Teams. Advance registration is required and closes at 3pm the night immediately prior to the scheduled meeting. Attendees will receive their access link and a bill tracker via email the evening before the briefing. The Teams meeting link for the series is the same throughout session and regular attendees are encouraged to save the link for future access. Link should not be shared outside of GGHI membership.
UID:e.26.16360
SEQUENCE:3
DTSTAMP:20260423T192035Z
URL:https://chamber.graysharbor.org/events/details/gghi-legislative-affairs-weekly-briefing-01-16-2026-16360
END:VEVENT

END:VCALENDAR
