BEGIN:VCALENDAR
VERSION:2.0
PRODID:-//ChamberMaster//Event Calendar 2.0//EN
METHOD:PUBLISH
X-PUBLISHED-TTL:P3D
REFRESH-INTERVAL:P3D
CALSCALE:GREGORIAN
BEGIN:VEVENT
DTSTART:20240815T180000Z
DTEND:20240815T203000Z
X-MICROSOFT-CDO-ALLDAYEVENT:FALSE
SUMMARY:GGHI Member Appreciation BBQ 2024
DESCRIPTION:Join fellow Greater Grays Harbor\, Inc. Members for our annual BBQ celebrating the hundreds of local businesses\, organizations and individuals that make up our membership. All members are welcome to attend this open-house style event and dine on always-delicious burgers and dogs grilled up by the Cosi Lions Club. Feel free to drop in anytime between 11am and 1:30pm.
X-ALT-DESC;FMTTYPE=text/html:<font color="#181818" face="arial"><span style="font-size: 14px\;">Join fellow Greater Grays Harbor\, Inc. Members for our annual BBQ celebrating the&nbsp\;hundreds of local businesses\, organizations and&nbsp\;individuals that make up our membership. All members are welcome to attend this open-house style event and dine on always-delicious burgers and dogs grilled up by the Cosi Lions Club. Feel free to drop in anytime between 11am and 1:30pm.</span></font>
LOCATION:Greater Grays Harbor\, Inc. 506 Duffy St. Aberdeen\, WA
UID:e.26.14565
SEQUENCE:3
DTSTAMP:20260423T174239Z
URL:https://chamber.graysharbor.org/events/details/gghi-member-appreciation-bbq-2024-14565
END:VEVENT

END:VCALENDAR
