BEGIN:VCALENDAR
VERSION:2.0
PRODID:-//ChamberMaster//Event Calendar 2.0//EN
METHOD:PUBLISH
X-PUBLISHED-TTL:P3D
REFRESH-INTERVAL:P3D
CALSCALE:GREGORIAN
BEGIN:VEVENT
DTSTART:20260120T200000Z
DTEND:20260120T210000Z
X-MICROSOFT-CDO-ALLDAYEVENT:FALSE
SUMMARY:GGHI Member Ribbon Cutting: Harbor Foot & Ankle Clinic
DESCRIPTION:You're invited to the first Greater Grays Harbor\, Inc. (GGHI) Member Ribbon Cutting of the New Year! We've very excited to gather at Harbor Foot & Ankle Clinic's brand-new location at 1720 Sumner Ave. in Aberdeen and celebrate them with a signature GGHI Ribbon Cutting. Get to know Dr. Bijan Sheikhizadeh\, an experienced and licensed podiatrist with over 1\,100 surgical procedures\, and his team of friendly and highly trained professionals.\n\nThe Ribbon Cutting will take place on Tuesday\, January 20th at noon. We hope you'll join us as we explore their new clinic and learn all about their innovative techniques and how they provide the Harbor with the very best foot-care.\n\nQuestions? Contact GGHI at info@graysharbor.org.
X-ALT-DESC;FMTTYPE=text/html:<div class="xdj266r x14z9mp xat24cr x1lziwak x1vvkbs" style="overflow-wrap: break-word\; margin-bottom: 0px\; margin-top: 0px\; margin-inline: 0px\; font-family: &quot\;Segoe UI Historic&quot\;\, &quot\;Segoe UI&quot\;\, Helvetica\, Arial\, sans-serif\; color: rgb(8\, 8\, 9)\; font-size: 15px\;"><span style="font-size:14px\;"><span style="font-family:arial\;">You&#39\;re invited to the first Greater Grays Harbor\, Inc. (GGHI) Member Ribbon Cutting of the New&nbsp\;Year! We&#39\;ve very excited to gather at Harbor Foot &amp\; Ankle Clinic&#39\;s brand-new location at 1720 Sumner Ave. in Aberdeen and celebrate them with a signature GGHI Ribbon Cutting. Get to know Dr. Bijan Sheikhizadeh\, an experienced and licensed podiatrist with over 1\,100 surgical procedures\, and his team of friendly and highly trained professionals.</span></span></div>\n\n<div class="x14z9mp xat24cr x1lziwak x1vvkbs xtlvy1s" style="overflow-wrap: break-word\; margin-top: 0.5em\; margin-bottom: 0px\; margin-inline: 0px\; font-family: &quot\;Segoe UI Historic&quot\;\, &quot\;Segoe UI&quot\;\, Helvetica\, Arial\, sans-serif\; color: rgb(8\, 8\, 9)\; font-size: 15px\;"><span style="font-size:14px\;"><span style="font-family:arial\;">The Ribbon Cutting will take place on Tuesday\, January 20th at noon. We hope you&#39\;ll join us as we explore their new clinic and learn all about their innovative techniques and how they provide the Harbor with the very best foot-care.</span></span></div>\n\n<div class="x14z9mp xat24cr x1lziwak x1vvkbs xtlvy1s" style="overflow-wrap: break-word\; margin-top: 0.5em\; margin-bottom: 0px\; margin-inline: 0px\; font-family: &quot\;Segoe UI Historic&quot\;\, &quot\;Segoe UI&quot\;\, Helvetica\, Arial\, sans-serif\; color: rgb(8\, 8\, 9)\; font-size: 15px\;"><span style="font-size:14px\;"><span style="font-family:arial\;">Questions? Contact GGHI at info@graysharbor.org.</span></span></div>\n
LOCATION:Harbor Foot & Ankle Clinic 1720 Sumner Ave. Aberdeen\, WA
UID:e.26.16369
SEQUENCE:3
DTSTAMP:20260423T192219Z
URL:https://chamber.graysharbor.org/events/details/gghi-member-ribbon-cutting-harbor-foot-ankle-clinic-16369
END:VEVENT

END:VCALENDAR
