BEGIN:VCALENDAR
VERSION:2.0
PRODID:-//ChamberMaster//Event Calendar 2.0//EN
METHOD:PUBLISH
X-PUBLISHED-TTL:P3D
REFRESH-INTERVAL:P3D
CALSCALE:GREGORIAN
BEGIN:VEVENT
DTSTART:20190726T180000Z
DTEND:20190726T200000Z
X-MICROSOFT-CDO-ALLDAYEVENT:FALSE
SUMMARY:GGHI Membership Appreciation BBQ 2019
DESCRIPTION:To show our appreciation for your ongoing investment and commitment to our organization and the Grays Harbor community\, Greater Grays Harbor\, Inc. is looking forward to hosting our annual open house Membership Appreciation BBQ! Please plan to join us for some great food and conversation with fellow community members from across the county.\n\nHere at GGHI\, we organize many moving parts that help create a better place to live\, work and play in Grays Harbor. If you know anyone who would like to learn more about our organization and the programs we offer\, feel free to invite them to join you! We're always open to meeting new friends\, business owners and community residents.\n\nThis free event is in place of our regular monthly Business Forum Lunch. Stop by our office any time between 11am and 1pm on July 26th and be sure to bring your appetite as the Cosmopolis Lions Club will be grilling delicious burgers for all to enjoy!
X-ALT-DESC;FMTTYPE=text/html:<p style="box-sizing: border-box\; margin: 0px 0px 20px\; caret-color: rgb(24\, 24\, 24)\; color: rgb(24\, 24\, 24)\; font-family: Roboto\, Arial\, Helvetica\, sans-serif\; font-size: 17px\;"><span style="font-size:14px\;"><span style="font-family:arial\;">To show our appreciation for your ongoing investment and commitment to our organization and the Grays Harbor community\, Greater Grays Harbor\, Inc. is looking forward to hosting our annual open house Membership Appreciation BBQ! Please plan to join us for some great food and conversation with fellow community members from across the county.</span></span><br />\n<span style="font-size:14px\;"><span style="font-family:arial\;">Here at GGHI\, we organize many moving parts that help create a better place to live\, work and play in Grays Harbor. If you know anyone who would like to learn more about our organization and the programs we offer\, feel free to invite them to join you! We&rsquo\;re always open to meeting new friends\, business owners and community residents.</span></span><br />\n<span style="font-size:14px\;"><span style="font-family:arial\;">This free event is in place of our regular monthly Business Forum Lunch. Stop by our office any time between 11am and 1pm on July 26th and be sure to bring your appetite as the Cosmopolis Lions Club will be grilling delicious burgers for all to enjoy!</span></span></p>\n
LOCATION:GGHI Office 506 Duffy St. Aberdeen\, WA
UID:e.26.12070
SEQUENCE:3
DTSTAMP:20260424T104314Z
URL:https://chamber.graysharbor.org/events/details/gghi-membership-appreciation-bbq-2019-12070
END:VEVENT

END:VCALENDAR
