BEGIN:VCALENDAR
VERSION:2.0
PRODID:-//ChamberMaster//Event Calendar 2.0//EN
METHOD:PUBLISH
X-PUBLISHED-TTL:P3D
REFRESH-INTERVAL:P3D
CALSCALE:GREGORIAN
BEGIN:VEVENT
DTSTART:20180227T193000Z
DTEND:20180227T210000Z
X-MICROSOFT-CDO-ALLDAYEVENT:FALSE
SUMMARY:GGHI Membership Meeting Business Forum Lunch
DESCRIPTION:Mark your calendars for the upcoming Greater Grays Harbor\, Inc. (GGHI) Annual Membership Meeting\, featuring a special presentation by CEO Dru Garson. He will speak about the current projects GGHI is spearheading\, including an update on the Gateway Center for Enterprise and Tourism\, and what GGHI hopes to accomplish in 2018.\n\n\n\nThis meeting will offer a unique opportunity for GGHI members and the Grays Harbor citizens to talk directly with the GGHI board and staff. Come learn more about the work Greater Grays Harbor does to build an economically vibrant community.\n\n\n\nThe Annual Membership Lunch is on February 27\, 2018\, from 11:30 a.m. to 1:00 p.m. at the Immanuel Baptist Church located at 1200 Soule Ave. in Hoquiam. Lunch is included and will be catered by The Jitter House. The event costs $20 for members of GGHI and $25 for non-members. However\, anyone is welcome to attend and accommodations will be made for individuals that would like to attend without purchasing lunch.\n\n\n\nRSVP's are required for both attendees eating lunch and for those doing the no lunch/no cost offer by no later than Feb. 22nd. To RSVP\, please call GGHI at (360) 532-7888\, email Candie Gleason ay candie@graysharbor.org
X-ALT-DESC;FMTTYPE=text/html:<span style="color: rgb(75\, 79\, 86)\; font-family: Helvetica\, Arial\, sans-serif\; font-size: 14px\; background-color: rgb(255\, 255\, 255)\;">Mark your calendars for the upcoming Greater Grays Harbor\, Inc. (GGHI) Annual Membership Meeting\, featuring a special presentation by CEO Dru Garson. He will speak about the current projects GGHI is spearheading\, including an update on the Gateway Center for Enterprise and Tourism\, and what GGHI hopes to accomplish in 2018.</span><br style="color: rgb(75\, 79\, 86)\; font-family: Helvetica\, Arial\, sans-serif\; font-size: 14px\; background-color: rgb(255\, 255\, 255)\;" />\n<br style="color: rgb(75\, 79\, 86)\; font-family: Helvetica\, Arial\, sans-serif\; font-size: 14px\; background-color: rgb(255\, 255\, 255)\;" />\n<span style="color: rgb(75\, 79\, 86)\; font-family: Helvetica\, Arial\, sans-serif\; font-size: 14px\; background-color: rgb(255\, 255\, 255)\;">This meeting will offer a unique opportunity for GGHI members and the Grays Harbor citizens to talk directly with the GGHI board and staff. Come learn more about the work Greater Grays Harbor does to build an economically vibrant community.</span><br style="color: rgb(75\, 79\, 86)\; font-family: Helvetica\, Arial\, sans-serif\; font-size: 14px\; background-color: rgb(255\, 255\, 255)\;" />\n<br style="color: rgb(75\, 79\, 86)\; font-family: Helvetica\, Arial\, sans-serif\; font-size: 14px\; background-color: rgb(255\, 255\, 255)\;" />\n<span style="color: rgb(75\, 79\, 86)\; font-family: Helvetica\, Arial\, sans-serif\; font-size: 14px\; background-color: rgb(255\, 255\, 255)\;">The Annual Membership Lunch is on February 27\, 2018\, from 11:30 a.m. to 1:00 p.m. at the Immanuel Baptist Church located at 1200 Soule Ave. in Hoquiam. Lunch is included and will be catered by The Jitter House. The event costs $20 for members of GGHI and $25 for non-members. However\, anyone is welcome to attend and accommodations will be made for individuals that would like to attend without purchasing lunch.</span><br style="color: rgb(75\, 79\, 86)\; font-family: Helvetica\, Arial\, sans-serif\; font-size: 14px\; background-color: rgb(255\, 255\, 255)\;" />\n<br style="color: rgb(75\, 79\, 86)\; font-family: Helvetica\, Arial\, sans-serif\; font-size: 14px\; background-color: rgb(255\, 255\, 255)\;" />\n<span style="color: rgb(75\, 79\, 86)\; font-family: Helvetica\, Arial\, sans-serif\; font-size: 14px\; background-color: rgb(255\, 255\, 255)\;">RSVP&#39\;s are required for both attendees eating lunch and for those doing the no lunch/no cost offer by no later than Feb. 22nd. To RSVP\, please call GGHI at (360) 532-7888\, email Candie Gleason ay candie@graysharbor.org&nbsp\;</span>
LOCATION:pin Hide Map Immanuel Baptist Church - Hoquiam 1200 Soule Ave\, Hoquiam\, Washington 98550
UID:e.26.9523
SEQUENCE:3
DTSTAMP:20260425T133406Z
URL:https://chamber.graysharbor.org/events/details/gghi-membership-meeting-business-forum-lunch-9523
END:VEVENT

END:VCALENDAR
