BEGIN:VCALENDAR
VERSION:2.0
PRODID:-//ChamberMaster//Event Calendar 2.0//EN
METHOD:PUBLISH
X-PUBLISHED-TTL:P3D
REFRESH-INTERVAL:P3D
CALSCALE:GREGORIAN
BEGIN:VEVENT
DTSTART:20260122T200000Z
DTEND:20260122T203000Z
X-MICROSOFT-CDO-ALLDAYEVENT:FALSE
SUMMARY:GGHI Ribbon Cutting: Smokin' Philly's BBQ Grand Re-Opening
DESCRIPTION:Grand Reopening Celebration in Hoquiam!  \n\nJoin Greater Grays Harbor\, Inc. (GGHI) as we celebrate the grand reopening of Smokin' Philly's BBQ at their storefront located at 409 7th Street in Hoquiam! \n\nDoors open at noon\, and the smoker will be rollin' with tasty BBQ favorites available for purchase until sold out\, so come hungry and come early! Guests at the Ribbon Cutting can enjoy light refreshments\, plus enter a raffle for a voucher for one FREE meal   \n\nBefore you stop by\, be sure to check out Smokin' Philly's Facebook page for a $2 off coupon to save on your meal.\n\nLet's come together and show some love and support for this brand-new Hoquiam business. Grab your friends\, bring your appetite\, and help us make this reopening one to remember!
X-ALT-DESC;FMTTYPE=text/html:<p data-end="51" data-start="0"><span style="font-size:14px\;">&#128293\; <strong data-end="46" data-start="3">Grand Reopening Celebration in Hoquiam!</strong> &#128293\;</span></p>\n\n<p data-end="213" data-start="53"><span style="font-size:14px\;">Join Greater Grays Harbor\, Inc. (GGHI)&nbsp\;as we celebrate the <strong data-end="124" data-start="81">grand reopening of Smokin&rsquo\; Philly&rsquo\;s BBQ</strong> at their storefront located at&nbsp\;<strong data-end="207" data-start="148">409 7th Street in <span class="hover:entity-accent entity-underline inline cursor-pointer align-baseline"><span class="whitespace-normal">Hoquiam</span></span></strong>!&nbsp\;</span></p>\n\n<p data-end="472" data-start="215"><span style="font-size:14px\;">Doors open at <strong data-end="237" data-start="229">noon</strong>\, and the smoker will be rollin&rsquo\; with <strong data-end="336" data-start="275">tasty BBQ favorites available for purchase until sold out</strong>\, so come hungry and come early! Guests at the Ribbon Cutting&nbsp\;can enjoy <strong data-end="408" data-start="386">light refreshments</strong>\, plus enter a <strong data-end="465" data-start="423">raffle for a voucher for one FREE meal</strong> &#129385\;&#128588\;</span></p>\n\n<p data-end="597" data-start="474"><span style="font-size:14px\;">Before you stop by\, be sure to check out <strong data-end="549" data-start="515">Smokin&rsquo\; Philly&rsquo\;s Facebook page</strong> for a <strong data-end="573" data-start="556">$2 off coupon</strong> to save on your meal.</span></p>\n\n<p data-end="780" data-is-last-node="" data-is-only-node="" data-start="599"><span style="font-size:14px\;">Let&rsquo\;s come together and show some love and support for this brand-new Hoquiam business. Grab your friends\, bring your appetite\, and help us make this reopening one to remember! &#128153\;</span></p>\n
LOCATION:Smokin' Philly's BBQ 409th Street Hoquiam\, WA
UID:e.26.16383
SEQUENCE:3
DTSTAMP:20260423T192219Z
URL:https://chamber.graysharbor.org/events/details/gghi-ribbon-cutting-smokin-philly-s-bbq-grand-re-opening-16383
END:VEVENT

END:VCALENDAR
