BEGIN:VCALENDAR
VERSION:2.0
PRODID:-//ChamberMaster//Event Calendar 2.0//EN
METHOD:PUBLISH
X-PUBLISHED-TTL:P3D
REFRESH-INTERVAL:P3D
CALSCALE:GREGORIAN
BEGIN:VEVENT
DTSTART:20180909T170000Z
DTEND:20180909T210000Z
X-MICROSOFT-CDO-ALLDAYEVENT:FALSE
SUMMARY:GH ALS Foundation Golf Tournament
DESCRIPTION:Please join us for the Inaugural Grays Harbor Celebrity Charity ALS "Lou Gehrig Disease" Golf Tournament\,  September 9\, 2018 at Highland Golf Course\, 2200 1st. Street Cosmopolis\, WA 98537. Sponsored by Timberland Bank.  \n\n\n\nCome and enjoy a great day of golf\, food and fun!   Meet expected celebrity guests including Slick Watts\, Mark Lee\, Randall Morris\, Alonzo Mitz\, Nesby Glasglow\, Norm Johnson \, David Kirtman and Jordan Babineau.  We are planning contests\, events and prizes for everyone! The format is a 4-person best ball with an awards receptions following the fundraiser.\n\nSponsored by Timberland Bank\n\nLearn more here: takeahackagainstALS.com
X-ALT-DESC;FMTTYPE=text/html:<span style="font-family: Arial\; font-size: 13.3333px\; background-color: rgb(255\, 255\, 255)\;">Please join us for the&nbsp\;</span><strong style="font-family: Arial\; font-size: 13.3333px\; background-color: rgb(255\, 255\, 255)\;">Inaugural Grays Harbor Celebrity Charity ALS &quot\;Lou Gehrig Disease&quot\; Golf</strong><span style="font-family: Arial\; font-size: 13.3333px\; background-color: rgb(255\, 255\, 255)\;">&nbsp\;</span><strong style="font-family: Arial\; font-size: 13.3333px\; background-color: rgb(255\, 255\, 255)\;">Tournament\,&nbsp\;</strong><span style="font-family: Arial\; font-size: 13.3333px\; background-color: rgb(255\, 255\, 255)\;">&nbsp\;September 9\, 2018 at Highland Golf Course\, 2200 1st. Street Cosmopolis\, WA 98537.&nbsp\;Sponsored by&nbsp\;</span><a href="https://www.timberlandbank.com/" style="color: rgb(106\, 148\, 51)\; font-family: Arial\; font-size: 13.3333px\; background-color: rgb(255\, 255\, 255)\;" target="_blank">Timberland Bank</a><span style="font-family: Arial\; font-size: 13.3333px\; background-color: rgb(255\, 255\, 255)\;">.&nbsp\;&nbsp\;</span><br style="font-family: Arial\; font-size: 13.3333px\; background-color: rgb(255\, 255\, 255)\;" />\n<br style="font-family: Arial\; font-size: 13.3333px\; background-color: rgb(255\, 255\, 255)\;" />\n<span style="font-family: Arial\; font-size: 13.3333px\; background-color: rgb(255\, 255\, 255)\;">Come and enjoy a great day of&nbsp\;golf\, food and fun!&nbsp\;&nbsp\; Meet expected celebrity guests including Slick Watts\, Mark Lee\, Randall Morris\, Alonzo Mitz\, Nesby Glasglow\, Norm Johnson \, David Kirtman and Jordan Babineau.&nbsp\;&nbsp\;We are planning contests\, events and&nbsp\;prizes for everyone! The format is a 4-person best ball with an&nbsp\;awards receptions following the fundraiser.</span><br />\nSponsored by Timberland Bank<br />\nLearn more here:&nbsp\;<span style="color: rgb(34\, 34\, 34)\; font-family: arial\, sans-serif\; font-size: 12.8px\; background-color: rgb(255\, 255\, 255)\;">takeahackagainstALS.com</span>
LOCATION:Highland Golf Course 2200 1st. Street Cosmopolis\, WA
UID:e.26.11193
SEQUENCE:3
DTSTAMP:20260425T015548Z
URL:https://chamber.graysharbor.org/events/details/gh-als-foundation-golf-tournament-11193
END:VEVENT

END:VCALENDAR
