BEGIN:VCALENDAR
VERSION:2.0
PRODID:-//ChamberMaster//Event Calendar 2.0//EN
METHOD:PUBLISH
X-PUBLISHED-TTL:P3D
REFRESH-INTERVAL:P3D
CALSCALE:GREGORIAN
BEGIN:VEVENT
DTSTART:20181209T230000Z
DTEND:20181210T020000Z
X-MICROSOFT-CDO-ALLDAYEVENT:FALSE
SUMMARY:GH Civic Band & Choir
DESCRIPTION:Grays Harbor Civic Choir directed by Kari Hasbrouck & Concert Band directed by Tiffany Maki present Musician's Choice - featuring pieces suggested by our musicians.
X-ALT-DESC;FMTTYPE=text/html:<p style="background-color: transparent\; box-sizing: border-box\; color: rgb(41\, 43\, 44)\; font-family: &amp\;quot\;Lato&amp\;quot\;\,sans-serif\; font-size: 16px\; font-style: normal\; font-variant: normal\; font-weight: 400\; letter-spacing: normal\; margin-bottom: 16px\; margin-top: 0px\; orphans: 2\; text-align: left\; text-decoration: none\; text-indent: 0px\; text-transform: none\; -webkit-text-stroke-width: 0px\; white-space: normal\; word-spacing: 0px\;"><strong style="box-sizing: border-box\; font-weight: 700\;">Grays Harbor Civic Choir</strong> directed by Kari Hasbrouck &amp\; <strong style="box-sizing: border-box\; font-weight: 700\;">Concert Band</strong> directed by Tiffany Maki present <strong style="box-sizing: border-box\; font-weight: 700\;"><em style="box-sizing: border-box\;">Musician&#39\;s Choice</em></strong> - featuring pieces suggested by our musicians.</p>\n
LOCATION:Bishop Center for Performing Arts 1620 Edward P Smith Dr. Aberdeen\, WA
UID:e.26.11340
SEQUENCE:3
DTSTAMP:20260424T210644Z
URL:https://chamber.graysharbor.org/events/details/gh-civic-band-choir-11340
END:VEVENT

END:VCALENDAR
