BEGIN:VCALENDAR
VERSION:2.0
PRODID:-//ChamberMaster//Event Calendar 2.0//EN
METHOD:PUBLISH
X-PUBLISHED-TTL:P3D
REFRESH-INTERVAL:P3D
CALSCALE:GREGORIAN
BEGIN:VEVENT
DTSTART:20171210T230000Z
DTEND:20171211T010000Z
X-MICROSOFT-CDO-ALLDAYEVENT:FALSE
SUMMARY:GH Civic Choir / Bishop Center
DESCRIPTION:"Celebrate the Season" with the Grays Harbor Civic Choir\, directed by Kari Hasbrouck. Enjoy traditional Holiday music along with a sing-along with the audience. All Tickets $10 12 & under free with paying ticket holder
X-ALT-DESC;FMTTYPE=text/html:&quot\;Celebrate the Season&quot\; with the Grays Harbor Civic Choir\, directed by Kari Hasbrouck. Enjoy traditional Holiday music along with a sing-along with the audience. All Tickets $10 12 &amp\; under free with paying ticket holder
LOCATION:Grays Harbor College Bishop Center for Performing Arts 1620 Edward P. Smith Drive Aberdeen\, WA 98520
UID:e.26.8260
SEQUENCE:3
DTSTAMP:20260425T163838Z
URL:https://chamber.graysharbor.org/events/details/gh-civic-choir-bishop-center-8260
END:VEVENT

END:VCALENDAR
