BEGIN:VCALENDAR
VERSION:2.0
PRODID:-//ChamberMaster//Event Calendar 2.0//EN
METHOD:PUBLISH
X-PUBLISHED-TTL:P3D
REFRESH-INTERVAL:P3D
CALSCALE:GREGORIAN
BEGIN:VEVENT
DTSTART:20180325T220000Z
DTEND:20180325T230000Z
X-MICROSOFT-CDO-ALLDAYEVENT:FALSE
SUMMARY:GH Concert Band and Civic Choir
DESCRIPTION:To our patrons in Pacific County we would like to let you know of the upcoming concert at the Raymond Theatre. Sunday\, March 25th @ 3:00 the GH Concert Band and Civic Choir will present a combined concert. All tickets are $12 and children 12 and under are free. Tickets can be purchased online at www.ghc.edu/bishop and at the Raymond Theatre box office the day of the performance.
X-ALT-DESC;FMTTYPE=text/html:<span style="color: rgb(29\, 33\, 41)\; font-family: Helvetica\, Arial\, sans-serif\; font-size: 14px\; background-color: rgb(255\, 255\, 255)\;">To our patrons in Pacific County we would like to let you know of the upcoming concert at the Raymond Theatre. Sunday\, March 25th @ 3:00 the GH Concert Band and Civic Choir will present a combined concert. All tickets are $12 and children 12 and under are free. Tickets can be purchased online at&nbsp\;</span><a data-ft="{&quot\;tn&quot\;:&quot\;-U&quot\;}" data-lynx-mode="async" data-lynx-uri="https://l.facebook.com/l.php?u=http%3A%2F%2Fwww.ghc.edu%2Fbishop&amp\;h=ATPFcEcbqA2hTS3-2cRX3tGduesm8gmecNkWdY_ForXWQ5xF0pZH0FcAiIcYuNTEFWNwoShL_FkJEvF64cS83dz8XFkpeDmQ3-sgpBybglh2-qYYJM2x4LQEHTBffvo0uAcY8VbcY1MF39W7rNI7ISlXF6pem1yfe7kS7O4R-NjYInsejKUybE_Vl3IhsJqCRhU7e6yEoWEZNVDu4UA2RJQ" href="http://www.ghc.edu/bishop" rel="noopener nofollow" style="color: rgb(54\, 88\, 153)\; cursor: pointer\; text-decoration-line: none\; font-family: Helvetica\, Arial\, sans-serif\; font-size: 14px\; background-color: rgb(255\, 255\, 255)\;" target="_blank">www.ghc.edu/bishop</a><span style="color: rgb(29\, 33\, 41)\; font-family: Helvetica\, Arial\, sans-serif\; font-size: 14px\; background-color: rgb(255\, 255\, 255)\;">&nbsp\;and at the Raymond Theatre box office the day of the performance.</span>
LOCATION:Raymond Theater
UID:e.26.10557
SEQUENCE:3
DTSTAMP:20260425T115752Z
URL:https://chamber.graysharbor.org/events/details/gh-concert-band-and-civic-choir-10557
END:VEVENT

END:VCALENDAR
