BEGIN:VCALENDAR
VERSION:2.0
PRODID:-//ChamberMaster//Event Calendar 2.0//EN
METHOD:PUBLISH
X-PUBLISHED-TTL:P3D
REFRESH-INTERVAL:P3D
CALSCALE:GREGORIAN
BEGIN:VEVENT
DTSTART;VALUE=DATE:20190322
DTEND;VALUE=DATE:20190325
TRANSP:TRANSPARENT
X-MICROSOFT-CDO-ALLDAYEVENT:TRUE
SUMMARY:GH Mounted Posse Indoor Pro Rodeo
DESCRIPTION:GRAYS HARBOR MOUNTED POSSE INDOOR PRO RODEO\nROLLS INTO ELMA MARCH 22-24\, 2019.\n\nWhether your taste runs from tough-as-nails cowboys mastering an angry bull\, wild cow milking or just relaxing listening and dancing to live music\, the Annual Grays Harbor Mounted Posse Indoor Pro Rodeo offers entertainment and western fun for the whole family. \n\nPLEASE NOTE: Saturday's Rodeo sells out! It is highly recommended you purchase pre-sale tickets for Saturday. Sunday is Kid's Day\, offering fun for the little ones including games\, prizes and a stick horse race.\n\n\n\nFriday - Doors open at 5 p.m. / Rodeo Grand Entry at 7 p.m.\n\n\n\nSaturday - Doors open at 5 p.m. / Rodeo Grand Entry at 7 p.m.\n\n21+ Dance @ 9 p.m. w/LIVE MUSIC by Humptulips (included w/ticket) Saturday sell-out chance is HIGH...get tickets early!\n\n\n\nSunday/Family Day - Free kids activitivies\, bouncy houses & games 11-1:30 plus free pre-registration for the littles for famous "Stick Pony Races" during halftime at Sunday's rodeo. Each child who races gets to keep their "pony" plus individual prizes by age group for the winners. Register early! Rodeo Grand Entry @ 2 p.m.
X-ALT-DESC;FMTTYPE=text/html:<font face="arial" style="box-sizing: border-box\; -webkit-font-smoothing: subpixel-antialiased\; caret-color: rgb(20\, 20\, 20)\; color: rgb(20\, 20\, 20)\; font-size: 17.33333396911621px\;"><strong style="box-sizing: border-box\; -webkit-font-smoothing: subpixel-antialiased\; margin: 0px\; padding: 0px\; border: 0px\; outline: 0px\; font-style: inherit\; font-family: inherit\; vertical-align: baseline\; caret-color: rgb(49\, 49\, 49)\; color: rgb(49\, 49\, 49)\;">GRAYS HARBOR MOUNTED POSSE INDOOR PRO RODEO</strong></font>\n<p style="box-sizing: border-box\; -webkit-font-smoothing: subpixel-antialiased\; margin: 0px\; padding: 0px\; border: 0px\; outline: 0px\; font-size: 17.33333396911621px\; font-family: &quot\;Roboto Condensed&quot\;\; vertical-align: baseline\; caret-color: rgb(49\, 49\, 49)\; color: rgb(49\, 49\, 49)\;"><strong style="box-sizing: border-box\; -webkit-font-smoothing: subpixel-antialiased\; margin: 0px\; padding: 0px\; border: 0px\; outline: 0px\; font-style: inherit\; font-family: inherit\; vertical-align: baseline\;"><font face="arial" style="box-sizing: border-box\; -webkit-font-smoothing: subpixel-antialiased\;">ROLLS INTO ELMA MARCH 22-24\, 2019.</font></strong></p>\n\n<p style="box-sizing: border-box\; -webkit-font-smoothing: subpixel-antialiased\; margin: 0px\; padding: 0px\; border: 0px\; outline: 0px\; font-size: 17.33333396911621px\; font-family: &quot\;Roboto Condensed&quot\;\; vertical-align: baseline\; caret-color: rgb(49\, 49\, 49)\; color: rgb(49\, 49\, 49)\;"><font face="arial" style="box-sizing: border-box\; -webkit-font-smoothing: subpixel-antialiased\;">Whether your taste runs from tough-as-nails cowboys mastering an angry bull\, wild cow milking or just relaxing listening and dancing to live music\, the Annual Grays Harbor Mounted Posse Indoor Pro Rodeo offers entertainment and western fun for the whole family.&nbsp\;</font></p>\n\n<p style="box-sizing: border-box\; -webkit-font-smoothing: subpixel-antialiased\; margin: 0px\; padding: 0px\; border: 0px\; outline: 0px\; font-size: 17.33333396911621px\; font-family: &quot\;Roboto Condensed&quot\;\; vertical-align: baseline\; caret-color: rgb(49\, 49\, 49)\; color: rgb(49\, 49\, 49)\;"><font face="arial" style="box-sizing: border-box\; -webkit-font-smoothing: subpixel-antialiased\;">PLEASE NOTE: Saturday&#39\;s Rodeo sells out! It is highly recommended you purchase pre-sale tickets for Saturday. Sunday is Kid&#39\;s Day\, offering fun for the little ones including games\, prizes and a stick horse race.</font><br />\n<br />\n<span style="caret-color: rgb(29\, 33\, 41)\; color: rgb(29\, 33\, 41)\; font-family: system-ui\, -apple-system\, BlinkMacSystemFont\, &quot\;.SFNSText-Regular&quot\;\, sans-serif\; font-size: 14px\; white-space: pre-wrap\;">Friday - Doors open at 5 p.m. / Rodeo Grand Entry at 7 p.m.</span><br style="caret-color: rgb(29\, 33\, 41)\; color: rgb(29\, 33\, 41)\; font-family: system-ui\, -apple-system\, BlinkMacSystemFont\, &quot\;.SFNSText-Regular&quot\;\, sans-serif\; font-size: 14px\; white-space: pre-wrap\;" />\n<br style="caret-color: rgb(29\, 33\, 41)\; color: rgb(29\, 33\, 41)\; font-family: system-ui\, -apple-system\, BlinkMacSystemFont\, &quot\;.SFNSText-Regular&quot\;\, sans-serif\; font-size: 14px\; white-space: pre-wrap\;" />\n<span style="caret-color: rgb(29\, 33\, 41)\; color: rgb(29\, 33\, 41)\; font-family: system-ui\, -apple-system\, BlinkMacSystemFont\, &quot\;.SFNSText-Regular&quot\;\, sans-serif\; font-size: 14px\; white-space: pre-wrap\;">Saturday - Doors open at 5 p.m. / Rodeo Grand Entry at 7 p.m.</span><br style="caret-color: rgb(29\, 33\, 41)\; color: rgb(29\, 33\, 41)\; font-family: system-ui\, -apple-system\, BlinkMacSystemFont\, &quot\;.SFNSText-Regular&quot\;\, sans-serif\; font-size: 14px\; white-space: pre-wrap\;" />\n<span style="caret-color: rgb(29\, 33\, 41)\; color: rgb(29\, 33\, 41)\; font-family: system-ui\, -apple-system\, BlinkMacSystemFont\, &quot\;.SFNSText-Regular&quot\;\, sans-serif\; font-size: 14px\; white-space: pre-wrap\;">21+ Dance @ 9 p.m. w/LIVE MUSIC by Humptulips (included w/ticket) Saturday sell-out chance is HIGH...get tickets early!</span><br style="caret-color: rgb(29\, 33\, 41)\; color: rgb(29\, 33\, 41)\; font-family: system-ui\, -apple-system\, BlinkMacSystemFont\, &quot\;.SFNSText-Regular&quot\;\, sans-serif\; font-size: 14px\; white-space: pre-wrap\;" />\n<br style="caret-color: rgb(29\, 33\, 41)\; color: rgb(29\, 33\, 41)\; font-family: system-ui\, -apple-system\, BlinkMacSystemFont\, &quot\;.SFNSText-Regular&quot\;\, sans-serif\; font-size: 14px\; white-space: pre-wrap\;" />\n<span style="caret-color: rgb(29\, 33\, 41)\; color: rgb(29\, 33\, 41)\; font-family: system-ui\, -apple-system\, BlinkMacSystemFont\, &quot\;.SFNSText-Regular&quot\;\, sans-serif\; font-size: 14px\; white-space: pre-wrap\;">Sunday/Family Day - Free kids activitivies\, bouncy houses &amp\; games 11-1:30 plus free pre-registration for the littles for famous &quot\;Stick Pony Races&quot\; during halftime at Sunday&#39\;s rodeo. Each child who races gets to keep their &quot\;pony&quot\; plus individual prizes by age group for the winners. Register early! Rodeo Grand Entry @ 2 p.m.</span></p>\n
LOCATION:Grays Harbor Fairgrounds Elma\, WA
UID:e.26.11802
SEQUENCE:3
DTSTAMP:20260424T163450Z
URL:https://chamber.graysharbor.org/events/details/gh-mounted-posse-indoor-pro-rodeo-11802
END:VEVENT

END:VCALENDAR
