BEGIN:VCALENDAR
VERSION:2.0
PRODID:-//ChamberMaster//Event Calendar 2.0//EN
METHOD:PUBLISH
X-PUBLISHED-TTL:P3D
REFRESH-INTERVAL:P3D
CALSCALE:GREGORIAN
BEGIN:VEVENT
DTSTART;VALUE=DATE:20181201
DTEND;VALUE=DATE:20181203
TRANSP:TRANSPARENT
X-MICROSOFT-CDO-ALLDAYEVENT:TRUE
SUMMARY:GH Opera Series Hansel & Gretel
DESCRIPTION:A night of holiday opera for the whole family.\n\nEnjoy the light and charming music of Victor Herbert's\, Babes In Toyland and a fully staged version of Engelbert Humperdinck's fairy tale masterpiece\, Hansel and Gretel (abridged). In English.
X-ALT-DESC;FMTTYPE=text/html:<div class="_63ew" data-testid="event-permalink-details" style="background-color: transparent\; color: rgb(29\, 33\, 41)\; font-family: Helvetica\,Arial\,sans-serif\; font-size: 14px\; font-style: normal\; font-variant: normal\; font-weight: 400\; letter-spacing: normal\; orphans: 2\; text-align: left\; text-decoration: none\; text-indent: 0px\; text-transform: none\; -webkit-text-stroke-width: 0px\; white-space: normal\; word-spacing: 0px\;"><span style="font-family: Helvetica\,Arial\,sans-serif\;">A night of holiday opera for the whole family.<br />\nEnjoy the light and charming music of Victor Herbert&#39\;s\, Babes In Toyland and a fully staged version of Engelbert Humperdinck&#39\;s fairy tale masterpiece\, Hansel and Gretel (abridged). In English.</span></div>\n
LOCATION:Bishop Center for Performing Arts 1620 Edward P Smith Dr\, Aberdeen\, Washington 98520
UID:e.26.11339
SEQUENCE:3
DTSTAMP:20260424T210650Z
URL:https://chamber.graysharbor.org/events/details/gh-opera-series-hansel-gretel-11339
END:VEVENT

END:VCALENDAR
