BEGIN:VCALENDAR
VERSION:2.0
PRODID:-//ChamberMaster//Event Calendar 2.0//EN
METHOD:PUBLISH
X-PUBLISHED-TTL:P3D
REFRESH-INTERVAL:P3D
CALSCALE:GREGORIAN
BEGIN:VEVENT
DTSTART:20190603T020000Z
DTEND:20190603T040000Z
X-MICROSOFT-CDO-ALLDAYEVENT:FALSE
SUMMARY:GH Symphony: A Symphony of Surprises
DESCRIPTION:The Grays Harbor Symphony presents A Symphony of Surprises. The performance will include winners from the Grays Harbor Music Teachers Association Concerto Competition. Featured will be a world premiere from composer Glen Ericksen\, Haydn's Symphony no. 94\, 'Surprise\,' and Wind Waker Symphonic Movement\, from the Legend of Zelda 25th Anniversary Symphony.
X-ALT-DESC;FMTTYPE=text/html:<p style="font-size: 16px\; box-sizing: inherit\; margin-top: 0px\; margin-bottom: 1rem\; caret-color: rgb(41\, 43\, 44)\; color: rgb(41\, 43\, 44)\; font-family: Lato\, sans-serif\;">The Grays Harbor Symphony presents&nbsp\;<em style="box-sizing: inherit\;"><span style="box-sizing: inherit\;">A Symphony of Surprises.</span>&nbsp\;</em>The performance will include winners from the Grays Harbor Music Teachers Association Concerto Competition. Featured will be a world premiere from composer Glen Ericksen\, Haydn&#39\;s Symphony no. 94\, &#39\;Surprise\,&#39\; and Wind Waker Symphonic Movement\, from the Legend of Zelda 25th Anniversary Symphony.</p>\n\n<p style="font-size: 16px\; box-sizing: inherit\; margin-top: 0px\; margin-bottom: 1rem\; caret-color: rgb(41\, 43\, 44)\; color: rgb(41\, 43\, 44)\; font-family: Lato\, sans-serif\;">&nbsp\;</p>\n
LOCATION:Bishop Center for the Performing Arts 1620 Edwards P. Smith Dr. Aberdeen\, WA
UID:e.26.11667
SEQUENCE:3
DTSTAMP:20260424T120200Z
URL:https://chamber.graysharbor.org/events/details/gh-symphony-a-symphony-of-surprises-11667
END:VEVENT

END:VCALENDAR
