BEGIN:VCALENDAR
VERSION:2.0
PRODID:-//ChamberMaster//Event Calendar 2.0//EN
METHOD:PUBLISH
X-PUBLISHED-TTL:P3D
REFRESH-INTERVAL:P3D
CALSCALE:GREGORIAN
BEGIN:VEVENT
DTSTART:20171204T030000Z
DTEND:20171204T060000Z
X-MICROSOFT-CDO-ALLDAYEVENT:FALSE
SUMMARY:GH Symphony Orchestra / Bishop Center
DESCRIPTION:The Fall Grays Harbor Symphony Concert is titled M sica Latino Sinfon a. It will feature orchestral music from Latin America\, including: Danzon No. 2\, by Marquez\; El Sal n M xico\, by Copland\; Huapango\, by Moncayo\; and Rhumba from the Latin American Symphony\, by Gould. Featured on the bassoon will be Stephanie Octave performing the Ciranda das sete notas\, by Villa-Lobos. All Tickets $12 12 & under free with paying ticket holder
X-ALT-DESC;FMTTYPE=text/html:The Fall Grays Harbor Symphony Concert is titled M&uacute\;sica Latino Sinfon&iacute\;a. It will feature orchestral music from Latin America\, including: Danzon No. 2\, by Marquez\; El Sal&oacute\;n M&eacute\;xico\, by Copland\; Huapango\, by Moncayo\; and Rhumba from the Latin American Symphony\, by Gould. Featured on the bassoon will be Stephanie Octave performing the Ciranda das sete notas\, by Villa-Lobos. All Tickets $12 12 &amp\; under free with paying ticket holder
LOCATION:Grays Harbor College Bishop Center for Performing Arts 1620 Edward P. Smith Drive Aberdeen\, WA 98520
UID:e.26.8259
SEQUENCE:3
DTSTAMP:20260425T163801Z
URL:https://chamber.graysharbor.org/events/details/gh-symphony-orchestra-bishop-center-8259
END:VEVENT

END:VCALENDAR
