BEGIN:VCALENDAR
VERSION:2.0
PRODID:-//ChamberMaster//Event Calendar 2.0//EN
METHOD:PUBLISH
X-PUBLISHED-TTL:P3D
REFRESH-INTERVAL:P3D
CALSCALE:GREGORIAN
BEGIN:VEVENT
DTSTART:20190420T143000Z
DTEND:20190421T010000Z
X-MICROSOFT-CDO-ALLDAYEVENT:FALSE
SUMMARY:GHC EDventure: Tulip Festival
DESCRIPTION:Visit the exquisite tulip gardens at RoozenGaarde and Tulip Town. Photograph tulips to your heart's content! Food and crafts are also available at these venues! Lunch at Hillcrest Park   a delicious Salmon BBQ. *Lunch included. Depart GHC Main Campus: 8 a.m.\, Arrive back to Main Campus: 6 p.m.
X-ALT-DESC;FMTTYPE=text/html:<span style="font-size:14px\;"><span style="caret-color: rgb(38\, 38\, 38)\; color: rgb(38\, 38\, 38)\; font-family: &quot\;Source Sans Pro&quot\;\, sans-serif\;">Visit the exquisite tulip gardens at RoozenGaarde and Tulip Town. Photograph tulips to your heart&rsquo\;s content! Food and crafts are also available at these venues! Lunch at Hillcrest Park &ndash\; a delicious Salmon BBQ. *Lunch included. Depart GHC Main Campus: 8 a.m.\, Arrive back to Main Campus: 6 p.m.</span></span>
LOCATION:Pickup at Grays Harbor College Aberdeen\, WA
UID:e.26.11859
SEQUENCE:3
DTSTAMP:20260424T151453Z
URL:https://chamber.graysharbor.org/events/details/ghc-edventure-tulip-festival-11859
END:VEVENT

END:VCALENDAR
