BEGIN:VCALENDAR
VERSION:2.0
PRODID:-//ChamberMaster//Event Calendar 2.0//EN
METHOD:PUBLISH
X-PUBLISHED-TTL:P3D
REFRESH-INTERVAL:P3D
CALSCALE:GREGORIAN
BEGIN:VEVENT
DTSTART:20210201T210000Z
DTEND:20210201T220000Z
X-MICROSOFT-CDO-ALLDAYEVENT:FALSE
SUMMARY:GHC Nursing Information Session
DESCRIPTION:Join the GHC Nursing Department for this group advising session. Plan your academic pathway\, learn how to get started\, and get your questions answered. \n\nFor zoom meeting information\, please email Karen Carriker at karen.carriker@ghc.edu.
X-ALT-DESC;FMTTYPE=text/html:<div class="kvgmc6g5 cxmmr5t8 oygrvhab hcukyx3x c1et5uql" style="word-wrap: break-word\; margin: 0px\; font-family: system-ui\, -apple-system\, BlinkMacSystemFont\, &quot\;.SFNSText-Regular&quot\;\, sans-serif\; caret-color: rgb(5\, 5\, 5)\; color: rgb(5\, 5\, 5)\; font-size: 15px\;">Join the GHC Nursing Department for this group advising session. Plan your academic pathway\, learn how to get started\, and get your questions answered.&nbsp\;</div>\n\n<div class="o9v6fnle cxmmr5t8 oygrvhab hcukyx3x c1et5uql" style="word-wrap: break-word\; margin: 0.5em 0px 0px\; font-family: system-ui\, -apple-system\, BlinkMacSystemFont\, &quot\;.SFNSText-Regular&quot\;\, sans-serif\; caret-color: rgb(5\, 5\, 5)\; color: rgb(5\, 5\, 5)\; font-size: 15px\;">For zoom meeting information\, please email Karen Carriker at karen.carriker@ghc.edu.</div>\n
LOCATION:Online via Zoom
UID:e.26.12570
SEQUENCE:3
DTSTAMP:20260423T235546Z
URL:https://chamber.graysharbor.org/events/details/ghc-nursing-information-session-12570
END:VEVENT

END:VCALENDAR
