BEGIN:VCALENDAR
VERSION:2.0
PRODID:-//ChamberMaster//Event Calendar 2.0//EN
METHOD:PUBLISH
X-PUBLISHED-TTL:P3D
REFRESH-INTERVAL:P3D
CALSCALE:GREGORIAN
BEGIN:VEVENT
DTSTART:20171202T224500Z
DTEND:20171203T050000Z
X-MICROSOFT-CDO-ALLDAYEVENT:FALSE
SUMMARY:GHC Point Defiance Zoo Lights and Aquarium EDventure
DESCRIPTION:GHC Point Defiance Zoo Lights and Aquarium EDventure\nAll aboard the GHC bus as we travel to the Point Defiance Zoo and Aquarium for the 30th Annual Zoo lights! With over 600\,000 lights\, this Northwest tradition features old favorites and new creations around the zoo grounds! \n\nDinner at the Point Defiance Tap and Grill Included!\n\nCost: $69.00\n\nDate: December 2nd\n\nDepart Aberdeen Campus: 2:45PM\n\nDepart Zoo: 7:30PM\n\nVisit: www.ghc.edu/ce to join our mailing list!
X-ALT-DESC;FMTTYPE=text/html:<h1 class="_5gmx" data-testid="event-permalink-event-name" id="seo_h1_tag" style="color: rgb(29\, 33\, 41)\; font-size: 20px\; margin: 0px 12px 0px 0px\; padding: 0px\; font-weight: normal\; line-height: 28px\; font-family: Helvetica\, Arial\, sans-serif\; background-color: rgb(255\, 255\, 255)\;">GHC Point Defiance Zoo Lights and Aquarium EDventure</h1>\n<span style="color: rgb(75\, 79\, 86)\; font-family: Helvetica\, Arial\, sans-serif\; font-size: 14px\; background-color: rgb(255\, 255\, 255)\;">All aboard the GHC bus as we travel to the Point Defiance Zoo and Aquarium for the 30th Annual Zoo lights! With over 600\,000 lights\, this Northwest tradition features old favorites and new creations around the zoo grounds!&nbsp\;</span><br style="color: rgb(75\, 79\, 86)\; font-family: Helvetica\, Arial\, sans-serif\; font-size: 14px\; background-color: rgb(255\, 255\, 255)\;" />\n<span style="color: rgb(75\, 79\, 86)\; font-family: Helvetica\, Arial\, sans-serif\; font-size: 14px\; background-color: rgb(255\, 255\, 255)\;">Dinner at the Point Defiance Tap and Grill Included!</span><br style="color: rgb(75\, 79\, 86)\; font-family: Helvetica\, Arial\, sans-serif\; font-size: 14px\; background-color: rgb(255\, 255\, 255)\;" />\n<span style="color: rgb(75\, 79\, 86)\; font-family: Helvetica\, Arial\, sans-serif\; font-size: 14px\; background-color: rgb(255\, 255\, 255)\;">Cost: $69.00</span><br style="color: rgb(75\, 79\, 86)\; font-family: Helvetica\, Arial\, sans-serif\; font-size: 14px\; background-color: rgb(255\, 255\, 255)\;" />\n<span style="color: rgb(75\, 79\, 86)\; font-family: Helvetica\, Arial\, sans-serif\; font-size: 14px\; background-color: rgb(255\, 255\, 255)\;">Date: December 2nd</span><br style="color: rgb(75\, 79\, 86)\; font-family: Helvetica\, Arial\, sans-serif\; font-size: 14px\; background-color: rgb(255\, 255\, 255)\;" />\n<span style="color: rgb(75\, 79\, 86)\; font-family: Helvetica\, Arial\, sans-serif\; font-size: 14px\; background-color: rgb(255\, 255\, 255)\;">Depart Aberdeen Campus: 2:45PM</span><br style="color: rgb(75\, 79\, 86)\; font-family: Helvetica\, Arial\, sans-serif\; font-size: 14px\; background-color: rgb(255\, 255\, 255)\;" />\n<span style="color: rgb(75\, 79\, 86)\; font-family: Helvetica\, Arial\, sans-serif\; font-size: 14px\; background-color: rgb(255\, 255\, 255)\;">Depart Zoo: 7:30PM</span><br style="color: rgb(75\, 79\, 86)\; font-family: Helvetica\, Arial\, sans-serif\; font-size: 14px\; background-color: rgb(255\, 255\, 255)\;" />\n<span style="color: rgb(75\, 79\, 86)\; font-family: Helvetica\, Arial\, sans-serif\; font-size: 14px\; background-color: rgb(255\, 255\, 255)\;">Visit:&nbsp\;</span><a data-lynx-mode="async" data-lynx-uri="https://l.facebook.com/l.php?u=http%3A%2F%2Fwww.ghc.edu%2Fce&amp\;h=ATNGFMXTbZ5o_RTdvync4UtFX4XiFsLzzpnmEDjCIaGFZyCt4qbsqFX2dVhlCe6UvQzye4nNykQnbRsJOVVOk_ZZJjwMGI3MhYSkng9Qi0GTUZlGqv46PWS4Onvq9vGR-3_BDjMx0D6y8bsI99cnbRhQUaR3mVfeJaORV9m1WHsXoNyh5S-fEMQayeoKxa1d" href="http://www.ghc.edu/ce" rel="nofollow noopener" style="color: rgb(54\, 88\, 153)\; cursor: pointer\; text-decoration-line: none\; font-family: Helvetica\, Arial\, sans-serif\; font-size: 14px\; background-color: rgb(255\, 255\, 255)\;" target="_blank">www.ghc.edu/ce</a><span style="color: rgb(75\, 79\, 86)\; font-family: Helvetica\, Arial\, sans-serif\; font-size: 14px\; background-color: rgb(255\, 255\, 255)\;">&nbsp\;to join our mailing list!</span>
LOCATION:Meet at Grays Harbor Community College Aberdeen\, WA
UID:e.26.8380
SEQUENCE:3
DTSTAMP:20260425T164210Z
URL:https://chamber.graysharbor.org/events/details/ghc-point-defiance-zoo-lights-and-aquarium-edventure-8380
END:VEVENT

END:VCALENDAR
