BEGIN:VCALENDAR
VERSION:2.0
PRODID:-//ChamberMaster//Event Calendar 2.0//EN
METHOD:PUBLISH
X-PUBLISHED-TTL:P3D
REFRESH-INTERVAL:P3D
CALSCALE:GREGORIAN
BEGIN:VEVENT
DTSTART:20190309T180000Z
DTEND:20190309T210000Z
X-MICROSOFT-CDO-ALLDAYEVENT:FALSE
SUMMARY:GHC Vegetable Gardening in a Marine Climate Workshop in Aberdeen
DESCRIPTION:Living in Grays Harbor county\, we have a short vegetable growing season\, with low heat levels. Before we choose what vegetables to grow\, we need to know what vegetables grow best. In this workshop\, you will learn how to select the best vegetable varieties and how to create an ideal growing environment.\n\nInstructor: Bev Arnoldy\n\nDate: Saturday\, 03/09\n\nTime: 10:00am-1:00pm\n\nRegister Online at: www.ghc.edu/ce or Call: 360.538.4088
X-ALT-DESC;FMTTYPE=text/html:<span style="caret-color: rgb(29\, 33\, 41)\; color: rgb(29\, 33\, 41)\; font-family: system-ui\, -apple-system\, BlinkMacSystemFont\, &quot\;.SFNSText-Regular&quot\;\, sans-serif\; font-size: 14px\; white-space: pre-wrap\; background-color: rgb(255\, 255\, 255)\;">Living in Grays Harbor county\, we have a short vegetable growing season\, with low heat levels. Before we choose what vegetables to grow\, we need to know what vegetables grow best. In this workshop\, you will learn how to select the best vegetable varieties and how to create an ideal growing environment.</span><br style="caret-color: rgb(29\, 33\, 41)\; color: rgb(29\, 33\, 41)\; font-family: system-ui\, -apple-system\, BlinkMacSystemFont\, &quot\;.SFNSText-Regular&quot\;\, sans-serif\; font-size: 14px\; white-space: pre-wrap\;" />\n<span style="caret-color: rgb(29\, 33\, 41)\; color: rgb(29\, 33\, 41)\; font-family: system-ui\, -apple-system\, BlinkMacSystemFont\, &quot\;.SFNSText-Regular&quot\;\, sans-serif\; font-size: 14px\; white-space: pre-wrap\; background-color: rgb(255\, 255\, 255)\;">Instructor: Bev Arnoldy</span><br style="caret-color: rgb(29\, 33\, 41)\; color: rgb(29\, 33\, 41)\; font-family: system-ui\, -apple-system\, BlinkMacSystemFont\, &quot\;.SFNSText-Regular&quot\;\, sans-serif\; font-size: 14px\; white-space: pre-wrap\;" />\n<span style="caret-color: rgb(29\, 33\, 41)\; color: rgb(29\, 33\, 41)\; font-family: system-ui\, -apple-system\, BlinkMacSystemFont\, &quot\;.SFNSText-Regular&quot\;\, sans-serif\; font-size: 14px\; white-space: pre-wrap\; background-color: rgb(255\, 255\, 255)\;">Date: Saturday\, 03/09</span><br style="caret-color: rgb(29\, 33\, 41)\; color: rgb(29\, 33\, 41)\; font-family: system-ui\, -apple-system\, BlinkMacSystemFont\, &quot\;.SFNSText-Regular&quot\;\, sans-serif\; font-size: 14px\; white-space: pre-wrap\;" />\n<span style="caret-color: rgb(29\, 33\, 41)\; color: rgb(29\, 33\, 41)\; font-family: system-ui\, -apple-system\, BlinkMacSystemFont\, &quot\;.SFNSText-Regular&quot\;\, sans-serif\; font-size: 14px\; white-space: pre-wrap\; background-color: rgb(255\, 255\, 255)\;">Time: 10:00am-1:00pm</span><br style="caret-color: rgb(29\, 33\, 41)\; color: rgb(29\, 33\, 41)\; font-family: system-ui\, -apple-system\, BlinkMacSystemFont\, &quot\;.SFNSText-Regular&quot\;\, sans-serif\; font-size: 14px\; white-space: pre-wrap\;" />\n<span style="caret-color: rgb(29\, 33\, 41)\; color: rgb(29\, 33\, 41)\; font-family: system-ui\, -apple-system\, BlinkMacSystemFont\, &quot\;.SFNSText-Regular&quot\;\, sans-serif\; font-size: 14px\; white-space: pre-wrap\; background-color: rgb(255\, 255\, 255)\;">Register Online at: </span><a data-lynx-mode="hover" href="https://l.facebook.com/l.php?u=http%3A%2F%2Fwww.ghc.edu%2Fce%3Ffbclid%3DIwAR3GfKs7OiUlt4-dc-CPkBOHUxPJEXgz_sk3VIaiqNj2wTBhgFdTwKpkyhQ&amp\;h=AT23KA0qb4Cr0QGu2FpZw1i9HY6SXEddbijHhyrUmSsJ4j3J788fzpuGnrydORsWTd4gyr-mDZDrYV8UgGyY3fibYrPttA7cKTj_iUfvbWZ7X_Yv7fyrV1bn676X09SQlysqYYyxiA" rel="nofollow noopener" style="color: rgb(54\, 88\, 153)\; cursor: pointer\; text-decoration: none\; font-family: system-ui\, -apple-system\, BlinkMacSystemFont\, &quot\;.SFNSText-Regular&quot\;\, sans-serif\; font-size: 14px\; white-space: pre-wrap\;" target="_blank">www.ghc.edu/ce</a><span style="caret-color: rgb(29\, 33\, 41)\; color: rgb(29\, 33\, 41)\; font-family: system-ui\, -apple-system\, BlinkMacSystemFont\, &quot\;.SFNSText-Regular&quot\;\, sans-serif\; font-size: 14px\; white-space: pre-wrap\; background-color: rgb(255\, 255\, 255)\;"> or Call: 360.538.4088</span>
LOCATION:pin Grays Harbor College Community Education 1620 Edward P. Smith Drive\, Aberdeen\, Washington 98520
UID:e.26.11797
SEQUENCE:3
DTSTAMP:20260424T163716Z
URL:https://chamber.graysharbor.org/events/details/ghc-vegetable-gardening-in-a-marine-climate-workshop-in-aberdeen-11797
END:VEVENT

END:VCALENDAR
