BEGIN:VCALENDAR
VERSION:2.0
PRODID:-//ChamberMaster//Event Calendar 2.0//EN
METHOD:PUBLISH
X-PUBLISHED-TTL:P3D
REFRESH-INTERVAL:P3D
CALSCALE:GREGORIAN
BEGIN:VEVENT
DTSTART:20190315T020000Z
DTEND:20190315T040000Z
X-MICROSOFT-CDO-ALLDAYEVENT:FALSE
SUMMARY:GHC Winter Jazz Concert
DESCRIPTION:Performances by GHC's Jazz Band\, directed by Dr. William Dyer and Jazz Choir\, directed by JR Lakey.
X-ALT-DESC;FMTTYPE=text/html:<p style="font-size: 16px\; box-sizing: inherit\; margin-top: 0px\; margin-bottom: 1rem\; caret-color: rgb(41\, 43\, 44)\; color: rgb(41\, 43\, 44)\; font-family: Lato\, sans-serif\;">Performances by GHC&#39\;s Jazz Band\, directed by Dr. William Dyer and Jazz Choir\, directed by JR Lakey.</p>\n\n<p style="font-size: 16px\; box-sizing: inherit\; margin-top: 0px\; margin-bottom: 1rem\; caret-color: rgb(41\, 43\, 44)\; color: rgb(41\, 43\, 44)\; font-family: Lato\, sans-serif\;">&nbsp\;</p>\n
LOCATION:
UID:e.26.11661
SEQUENCE:3
DTSTAMP:20260424T181711Z
URL:https://chamber.graysharbor.org/events/details/ghc-winter-jazz-concert-11661
END:VEVENT

END:VCALENDAR
