BEGIN:VCALENDAR
VERSION:2.0
PRODID:-//ChamberMaster//Event Calendar 2.0//EN
METHOD:PUBLISH
X-PUBLISHED-TTL:P3D
REFRESH-INTERVAL:P3D
CALSCALE:GREGORIAN
BEGIN:VEVENT
DTSTART:20180317T200000Z
DTEND:20180318T030000Z
X-MICROSOFT-CDO-ALLDAYEVENT:FALSE
SUMMARY:GHLCS League of Legends 1v1 Tournament
DESCRIPTION:League of Legends 1v1 winter invitational is shaping up to be a fantastic event! With a hard limit of just 32 competitors\, short focused games of double elimination against other CTC students\, local high school students\, the action will be fast and furious! Hosted by a popular Twitch.tv personality\, it's a must-see esports gaming event. Come to compete or to watch the games!
X-ALT-DESC;FMTTYPE=text/html:League of Legends 1v1 winter invitational is shaping up to be a fantastic event! With a hard limit of just 32 competitors\, short focused games of double elimination against other CTC students\, local high school students\, the action will be fast and furious! Hosted by a popular Twitch.tv personality\, it&rsquo\;s a must-see esports gaming event. Come to compete or to watch the games!
LOCATION:Grays Harbor College Building 4000\, room 4134 1620 Edward P Smith Drive Aberdeen\, WA 98520
UID:e.26.9556
SEQUENCE:3
DTSTAMP:20260425T120150Z
URL:https://chamber.graysharbor.org/events/details/ghlcs-league-of-legends-1v1-tournament-9556
END:VEVENT

END:VCALENDAR
