BEGIN:VCALENDAR
VERSION:2.0
PRODID:-//ChamberMaster//Event Calendar 2.0//EN
METHOD:PUBLISH
X-PUBLISHED-TTL:P3D
REFRESH-INTERVAL:P3D
CALSCALE:GREGORIAN
BEGIN:VEVENT
DTSTART:20190120T030000Z
DTEND:20190120T050000Z
X-MICROSOFT-CDO-ALLDAYEVENT:FALSE
SUMMARY:GHMTA Musicale Scholarship Benefit Concert
DESCRIPTION:The Grays Harbor Music Teachers Association will be holding its annual "Musicale" scholarship benefit concert at 7:00 p.m.\, Saturday\, January 19th at Aberdeen First Presbyterian Church. Each year the Grays Harbor Music Teachers Association awards scholarships to deserving Grays Harbor and Pacific County music students. We raise this money from proceeds from our annual Musicale. In the last 18 years we've given over $48\,000 to local music students. Those scholarships have allowed a number of our recipients to go on to careers in music. We invite some of Grays Harbor's finest musicians to donate their performances to the Musicale\, which is different every year. This year's performers are:   KPCP Duo with Ray Kahler\, clarinet and Ellen Pickell\, piano   Trio with Wendy Koski\, French horn\, Karen Meikle\, violin and Merry Jo Zimmer\, piano   String Quartet with Debra Akerlund\, violin\, Karen Meikle\, violin\, Leslie O'Brien\, viola and John O'Brien\, cello   Vocal Ensemble from Grays Harbor College Opera Workshop directed by Ian and Joy Dorsch   Vocal Soloist Ben Fagerstedt\, baritone Admission is free and the public is cordially invited to attend. A free will offering will be collected at intermission for the music scholarship fund. A gourmet dessert reception will follow the performance. The church is located at the corner of 4th and Broadway in Aberdeen.
X-ALT-DESC;FMTTYPE=text/html:The Grays Harbor Music Teachers Association will be holding its annual &ldquo\;Musicale&rdquo\; scholarship benefit concert at 7:00 p.m.\, Saturday\, January 19th at Aberdeen First Presbyterian Church. Each year the Grays Harbor Music Teachers Association awards scholarships to deserving Grays Harbor and Pacific County music students. We raise this money from proceeds from our annual Musicale. In the last 18 years we&rsquo\;ve given over $48\,000 to local music students. Those scholarships have allowed a number of our recipients to go on to careers in music. We invite some of Grays Harbor&rsquo\;s finest musicians to donate their performances to the Musicale\, which is different every year. This year&rsquo\;s performers are: &bull\; KPCP Duo with Ray Kahler\, clarinet and Ellen Pickell\, piano &bull\; Trio with Wendy Koski\, French horn\, Karen Meikle\, violin and Merry Jo Zimmer\, piano &bull\; String Quartet with Debra Akerlund\, violin\, Karen Meikle\, violin\, Leslie O&rsquo\;Brien\, viola and John O&rsquo\;Brien\, cello &bull\; Vocal Ensemble from Grays Harbor College Opera Workshop directed by Ian and Joy Dorsch &bull\; Vocal Soloist Ben Fagerstedt\, baritone Admission is free and the public is cordially invited to attend. A free will offering will be collected at intermission for the music scholarship fund. A gourmet dessert reception will follow the performance. The church is located at the corner of 4th and Broadway in Aberdeen.
LOCATION:First Presbyterian Church of Aberdeen
UID:e.26.11640
SEQUENCE:3
DTSTAMP:20260424T194556Z
URL:https://chamber.graysharbor.org/events/details/ghmta-musicale-scholarship-benefit-concert-11640
END:VEVENT

END:VCALENDAR
