BEGIN:VCALENDAR
VERSION:2.0
PRODID:-//ChamberMaster//Event Calendar 2.0//EN
METHOD:PUBLISH
X-PUBLISHED-TTL:P3D
REFRESH-INTERVAL:P3D
CALSCALE:GREGORIAN
BEGIN:VEVENT
DTSTART:20200404T190000Z
DTEND:20200406T010000Z
X-MICROSOFT-CDO-ALLDAYEVENT:FALSE
SUMMARY:GHoodStock
DESCRIPTION:Weekend Fun for the Whole Family! We are planning to stream the talent from our community-- Singers\, Poets\, Jugglers\, Families\, Story Tellers\, Comedians to start with.. Each artist will be responsible for their own live stream. We will set up a schedule and links for people to follow all around the Harbor.\n\n\n\nLet's give us something to talk about! \n\n\n\nIf you have a talent to share\, (Must be family friendly) Let us know\, we are starting to put together a schedule. Flexible time slots available. Sat Noon - Midnight\, Sun 9-?. Each slot will be 20 minutes\, and you can reserve a max of up to one hour.\n\n\n\nIf you have a great way to make this even better-- Let Us Know! This all about YOU Grays Harbor!
X-ALT-DESC;FMTTYPE=text/html:<span style="caret-color: rgb(29\, 33\, 41)\; color: rgb(29\, 33\, 41)\; font-family: system-ui\, -apple-system\, BlinkMacSystemFont\, &quot\;.SFNSText-Regular&quot\;\, sans-serif\; font-size: 14px\; white-space: pre-wrap\;">Weekend Fun for the Whole Family! We are planning to stream the talent from our community-- Singers\, Poets\, Jugglers\, Families\, Story Tellers\, Comedians to start with.. Each artist will be responsible for their own live stream. We will set up a schedule and links for people to follow all around the Harbor.</span><br style="caret-color: rgb(29\, 33\, 41)\; color: rgb(29\, 33\, 41)\; font-family: system-ui\, -apple-system\, BlinkMacSystemFont\, &quot\;.SFNSText-Regular&quot\;\, sans-serif\; font-size: 14px\; white-space: pre-wrap\;" />\n<br style="caret-color: rgb(29\, 33\, 41)\; color: rgb(29\, 33\, 41)\; font-family: system-ui\, -apple-system\, BlinkMacSystemFont\, &quot\;.SFNSText-Regular&quot\;\, sans-serif\; font-size: 14px\; white-space: pre-wrap\;" />\n<span style="caret-color: rgb(29\, 33\, 41)\; color: rgb(29\, 33\, 41)\; font-family: system-ui\, -apple-system\, BlinkMacSystemFont\, &quot\;.SFNSText-Regular&quot\;\, sans-serif\; font-size: 14px\; white-space: pre-wrap\;">Let&#39\;s give us something to talk about! </span><br style="caret-color: rgb(29\, 33\, 41)\; color: rgb(29\, 33\, 41)\; font-family: system-ui\, -apple-system\, BlinkMacSystemFont\, &quot\;.SFNSText-Regular&quot\;\, sans-serif\; font-size: 14px\; white-space: pre-wrap\;" />\n<br style="caret-color: rgb(29\, 33\, 41)\; color: rgb(29\, 33\, 41)\; font-family: system-ui\, -apple-system\, BlinkMacSystemFont\, &quot\;.SFNSText-Regular&quot\;\, sans-serif\; font-size: 14px\; white-space: pre-wrap\;" />\n<span style="caret-color: rgb(29\, 33\, 41)\; color: rgb(29\, 33\, 41)\; font-family: system-ui\, -apple-system\, BlinkMacSystemFont\, &quot\;.SFNSText-Regular&quot\;\, sans-serif\; font-size: 14px\; white-space: pre-wrap\;">If you have a talent to share\, (Must be family friendly) Let us know\, we are starting to put together a schedule. Flexible time slots available. Sat Noon - Midnight\, Sun 9-?. Each slot will be 20 minutes\, and you can reserve a max of up to one hour.</span><br style="caret-color: rgb(29\, 33\, 41)\; color: rgb(29\, 33\, 41)\; font-family: system-ui\, -apple-system\, BlinkMacSystemFont\, &quot\;.SFNSText-Regular&quot\;\, sans-serif\; font-size: 14px\; white-space: pre-wrap\;" />\n<br style="caret-color: rgb(29\, 33\, 41)\; color: rgb(29\, 33\, 41)\; font-family: system-ui\, -apple-system\, BlinkMacSystemFont\, &quot\;.SFNSText-Regular&quot\;\, sans-serif\; font-size: 14px\; white-space: pre-wrap\;" />\n<span style="caret-color: rgb(29\, 33\, 41)\; color: rgb(29\, 33\, 41)\; font-family: system-ui\, -apple-system\, BlinkMacSystemFont\, &quot\;.SFNSText-Regular&quot\;\, sans-serif\; font-size: 14px\; white-space: pre-wrap\;">If you have a great way to make this even better-- Let Us Know! This all about YOU Grays Harbor!</span>
LOCATION:Livestream
UID:e.26.12461
SEQUENCE:3
DTSTAMP:20260424T090053Z
URL:https://chamber.graysharbor.org/events/details/ghoodstock-12461
END:VEVENT

END:VCALENDAR
