BEGIN:VCALENDAR
VERSION:2.0
PRODID:-//ChamberMaster//Event Calendar 2.0//EN
METHOD:PUBLISH
X-PUBLISHED-TTL:P3D
REFRESH-INTERVAL:P3D
CALSCALE:GREGORIAN
BEGIN:VEVENT
DTSTART;VALUE=DATE:20200425
DTEND;VALUE=DATE:20200427
TRANSP:TRANSPARENT
X-MICROSOFT-CDO-ALLDAYEVENT:TRUE
SUMMARY:GHoodStock 2.0
DESCRIPTION:Two days of live music offered through the magic of the web! Local artists will join the lineup and perform for the community to enjoy from the comfort of their homes. Follow the event link for more information and the official schedule!
X-ALT-DESC;FMTTYPE=text/html:<span style="caret-color: rgb(29\, 33\, 41)\; color: rgb(29\, 33\, 41)\; font-family: system-ui\, -apple-system\, BlinkMacSystemFont\, &quot\;.SFNSText-Regular&quot\;\, sans-serif\; font-size: 14px\; white-space: pre-wrap\;">Two days of live music offered through the magic of the web! Local artists will join the lineup and perform for the </span><font color="#1d2129" face="system-ui\, -apple-system\, BlinkMacSystemFont\, .SFNSText-Regular\, sans-serif"><span style="caret-color: rgb(29\, 33\, 41)\; font-size: 14px\; white-space: pre-wrap\;">community to enjoy from the comfort of their homes. Follow the event link for more information and the official schedule!</span></font>
LOCATION:Online!
UID:e.26.12464
SEQUENCE:3
DTSTAMP:20260424T073830Z
URL:https://chamber.graysharbor.org/events/details/ghoodstock-2-0-12464
END:VEVENT

END:VCALENDAR
