BEGIN:VCALENDAR
VERSION:2.0
PRODID:-//ChamberMaster//Event Calendar 2.0//EN
METHOD:PUBLISH
X-PUBLISHED-TTL:P3D
REFRESH-INTERVAL:P3D
CALSCALE:GREGORIAN
BEGIN:VEVENT
DTSTART:20180120T020000Z
DTEND:20180120T160000Z
X-MICROSOFT-CDO-ALLDAYEVENT:FALSE
SUMMARY:Ghost 2018
DESCRIPTION:The Beasts Endurance division of Beasts OCR Presents:\n\n\n\nGhost 2018\n\n\n\nSponsored by GHunders Baselayers\n\n\n\nIn addition to obstacle course racing love\, we have a Beasts OCR subgroup that you can earn your way into\, we call it Beasts Endurance and we like to do things\, a little different. We enjoy a good challenge\, testing ourselves and seeing how tough someone\, a Beast\, can be.\n\n\n\nYou may have seen some of the Beasts Endurance events like DevOps or Feral. You might have attended our 12+ hour Beastbreaker 2017 in November.\n\n\n\nBut this one is different. A longtime vision finally brought true - we would like to introduce you to Ghost 2018.
X-ALT-DESC;FMTTYPE=text/html:<span style="color: rgb(75\, 79\, 86)\; font-family: Helvetica\, Arial\, sans-serif\; font-size: 14px\; background-color: rgb(255\, 255\, 255)\;">The Beasts Endurance division of Beasts OCR Presents:</span><br style="color: rgb(75\, 79\, 86)\; font-family: Helvetica\, Arial\, sans-serif\; font-size: 14px\; background-color: rgb(255\, 255\, 255)\;" />\n<br style="color: rgb(75\, 79\, 86)\; font-family: Helvetica\, Arial\, sans-serif\; font-size: 14px\; background-color: rgb(255\, 255\, 255)\;" />\n<span style="color: rgb(75\, 79\, 86)\; font-family: Helvetica\, Arial\, sans-serif\; font-size: 14px\; background-color: rgb(255\, 255\, 255)\;">Ghost 2018</span><br style="color: rgb(75\, 79\, 86)\; font-family: Helvetica\, Arial\, sans-serif\; font-size: 14px\; background-color: rgb(255\, 255\, 255)\;" />\n<br style="color: rgb(75\, 79\, 86)\; font-family: Helvetica\, Arial\, sans-serif\; font-size: 14px\; background-color: rgb(255\, 255\, 255)\;" />\n<span style="color: rgb(75\, 79\, 86)\; font-family: Helvetica\, Arial\, sans-serif\; font-size: 14px\; background-color: rgb(255\, 255\, 255)\;">Sponsored by GHunders Baselayers</span><br style="color: rgb(75\, 79\, 86)\; font-family: Helvetica\, Arial\, sans-serif\; font-size: 14px\; background-color: rgb(255\, 255\, 255)\;" />\n<br style="color: rgb(75\, 79\, 86)\; font-family: Helvetica\, Arial\, sans-serif\; font-size: 14px\; background-color: rgb(255\, 255\, 255)\;" />\n<span style="color: rgb(75\, 79\, 86)\; font-family: Helvetica\, Arial\, sans-serif\; font-size: 14px\; background-color: rgb(255\, 255\, 255)\;">In addition to obstacle course racing love\, we have a Beasts OCR subgroup that you can earn your way into\, we call it Beasts Endurance and we like to do things\, a little different. We enjoy a good challenge\, testing ourselves and seeing how tough someone\, a Beast\, can be.</span><br style="color: rgb(75\, 79\, 86)\; font-family: Helvetica\, Arial\, sans-serif\; font-size: 14px\; background-color: rgb(255\, 255\, 255)\;" />\n<br style="color: rgb(75\, 79\, 86)\; font-family: Helvetica\, Arial\, sans-serif\; font-size: 14px\; background-color: rgb(255\, 255\, 255)\;" />\n<span style="color: rgb(75\, 79\, 86)\; font-family: Helvetica\, Arial\, sans-serif\; font-size: 14px\; background-color: rgb(255\, 255\, 255)\;">You may have seen some of the Beasts Endurance events like DevOps or Feral. You might have attended our 12+ hour Beastbreaker 2017 in November.</span><br style="color: rgb(75\, 79\, 86)\; font-family: Helvetica\, Arial\, sans-serif\; font-size: 14px\; background-color: rgb(255\, 255\, 255)\;" />\n<br style="color: rgb(75\, 79\, 86)\; font-family: Helvetica\, Arial\, sans-serif\; font-size: 14px\; background-color: rgb(255\, 255\, 255)\;" />\n<span style="color: rgb(75\, 79\, 86)\; font-family: Helvetica\, Arial\, sans-serif\; font-size: 14px\; background-color: rgb(255\, 255\, 255)\;">But this one is different. A longtime vision finally brought true - we would like to introduce you to Ghost 2018.</span>
LOCATION:530 Wynoochee Valley Rd Montesano\, WA
UID:e.26.9449
SEQUENCE:3
DTSTAMP:20260425T145310Z
URL:https://chamber.graysharbor.org/events/details/ghost-2018-9449
END:VEVENT

END:VCALENDAR
