BEGIN:VCALENDAR
VERSION:2.0
PRODID:-//ChamberMaster//Event Calendar 2.0//EN
METHOD:PUBLISH
X-PUBLISHED-TTL:P3D
REFRESH-INTERVAL:P3D
CALSCALE:GREGORIAN
BEGIN:VEVENT
DTSTART:20171029T023000Z
DTEND:20171029T040000Z
X-MICROSOFT-CDO-ALLDAYEVENT:FALSE
SUMMARY:Ghostbusters at 7th St. Theatre
DESCRIPTION:October 27 & 28 @ 7:30 pm\n\nTickets are $6 for all ages.\n\nTicket are available at City Drug\, Crown Drug\, Harbor Drug\, online and at the door 30 minutes prior to the show.\n\n\n\nPeter Venkman\, Ray Stantz and Egon work at the University where they delve into the paranormal and fiddle with many unethical experiments on the students. When they are kicked out of the University they take their knowledge of the paranormal and go into business for themselves. Under the new snazzy business name of 'Ghostbusters'\, and living in the old firehouse building they work out of\, they are called to rid New York City of paranormal phenomenon. They make national press as the media thinks and pressures everybody the Ghostbusters are the cause of it all. Thrown in jail by the EPA\, the mayor takes a chance and calls on them to help save the city. Unbeknownst to all\, a long dead Gozer worshiper (Evo Shandor) erected downtown apartment building is the cause of all the paranormal activity. They find out the building could resurrect the ancient Hittite god\, Gozer\, and bring an end to all of humanity.\n\n\n\nStarring Bill Murray\, Dan Aykroyd\, and Harold Ramis.\n\n\n\nLocally sponsored by Coleman Mortuary\, Wunderland Childcare\, Rick Anderson\, Levee Lumber\, KD&S Environmental\, Pasha Automotive Services\, Casa Mia\, Durney Insurance\, Grays Harbor Community College\, Ray Kahler & Callie White\, Jodesha Broadcasting and Alpha Media Grays Harbor.
X-ALT-DESC;FMTTYPE=text/html:<span style="color: rgb(75\, 79\, 86)\; font-family: Helvetica\, Arial\, sans-serif\; font-size: 14px\; background-color: rgb(255\, 255\, 255)\;">October 27 &amp\; 28 @ 7:30 pm</span><br style="color: rgb(75\, 79\, 86)\; font-family: Helvetica\, Arial\, sans-serif\; font-size: 14px\; background-color: rgb(255\, 255\, 255)\;" />\n<span style="color: rgb(75\, 79\, 86)\; font-family: Helvetica\, Arial\, sans-serif\; font-size: 14px\; background-color: rgb(255\, 255\, 255)\;">Tickets are $6 for all ages.</span><br style="color: rgb(75\, 79\, 86)\; font-family: Helvetica\, Arial\, sans-serif\; font-size: 14px\; background-color: rgb(255\, 255\, 255)\;" />\n<span style="color: rgb(75\, 79\, 86)\; font-family: Helvetica\, Arial\, sans-serif\; font-size: 14px\; background-color: rgb(255\, 255\, 255)\;">Ticket are available at City Drug\, Crown Drug\, Harbor Drug\, online and at the door 30 minutes prior to the show.</span><br style="color: rgb(75\, 79\, 86)\; font-family: Helvetica\, Arial\, sans-serif\; font-size: 14px\; background-color: rgb(255\, 255\, 255)\;" />\n<br style="color: rgb(75\, 79\, 86)\; font-family: Helvetica\, Arial\, sans-serif\; font-size: 14px\; background-color: rgb(255\, 255\, 255)\;" />\n<span style="color: rgb(75\, 79\, 86)\; font-family: Helvetica\, Arial\, sans-serif\; font-size: 14px\; background-color: rgb(255\, 255\, 255)\;">Peter Venkman\, Ray Stantz and Egon work at the University where they delve into the paranormal and fiddle with many unethical experiments on the students. When they are kicked out of the University they take their knowledge of the paranormal and go into business for themselves. Under the new snazzy business name of &#39\;Ghostbusters&#39\;\, and living in the old firehouse building they work out of\, they are called to rid New York City of paranormal phenomenon. They make national press as the media thinks and pressures everybody the Ghostbusters are the ca</span><span class="text_exposed_show" style="display: inline\; font-family: Helvetica\, Arial\, sans-serif\; color: rgb(75\, 79\, 86)\; font-size: 14px\; background-color: rgb(255\, 255\, 255)\;">use of it all. Thrown in jail by the EPA\, the mayor takes a chance and calls on them to help save the city. Unbeknownst to all\, a long dead Gozer worshiper (Evo Shandor) erected downtown apartment building is the cause of all the paranormal activity. They find out the building could resurrect the ancient Hittite god\, Gozer\, and bring an end to all of humanity.<br />\n<br />\nStarring Bill Murray\, Dan Aykroyd\, and Harold Ramis.<br />\n<br />\nLocally sponsored by Coleman Mortuary\, Wunderland Childcare\, Rick Anderson\, Levee Lumber\, KD&amp\;S Environmental\, Pasha Automotive Services\, Casa Mia\, Durney Insurance\, Grays Harbor Community College\, Ray Kahler &amp\; Callie White\, Jodesha Broadcasting and Alpha Media Grays Harbor.</span>
LOCATION:7th St. Theatre Hoquiam\, WA
UID:e.26.8228
SEQUENCE:3
DTSTAMP:20260425T213427Z
URL:https://chamber.graysharbor.org/events/details/ghostbusters-at-7th-st-theatre-10-28-2017-8228
END:VEVENT

END:VCALENDAR
