BEGIN:VCALENDAR
VERSION:2.0
PRODID:-//ChamberMaster//Event Calendar 2.0//EN
METHOD:PUBLISH
X-PUBLISHED-TTL:P3D
REFRESH-INTERVAL:P3D
CALSCALE:GREGORIAN
BEGIN:VEVENT
DTSTART:20180818T180000Z
DTEND:20180818T230000Z
X-MICROSOFT-CDO-ALLDAYEVENT:FALSE
SUMMARY:Gnome & Fairy Festival
DESCRIPTION:Put on your pointed hats and fairy wings and head out to the coast for a day of enchantment with the Seabrook Gnome & Fairy Festival on Saturday\, August 18\, 2018 from 11 a.m. to 4 p.m.\n\nThis magical day is all about the "wee folk" and getting up close with the natural world and encouraging active\, outdoor play. \n\nChildren can forage in our enchanted forest for fairies\, help build a fairy village using all natural materials\, show off costumes in our gnome & fairy fashion show and have fun dancing to live music. \n\nThere will be other enchanting activities such as face painting\, games\, crafts\, live animal encounters and concessions. \n\nBe sure to bring the whole family to stroll Gnome Trial and catch a glimpse of the fairies and gnomes wandering Seabrook's enchanted forest.\n\nDress in costume and flaunt your wings in our fashion show\; mine for magic gems\; frolic in the enchanted forest for a fairy surprise\; build a gnome village\; enjoy games and crafts inspired by the natural world.\n\nThere's a fairy good chance kids will love the festive activities set for Seabrook's Gnome & Fairy Festival.
X-ALT-DESC;FMTTYPE=text/html:<p style="box-sizing: border-box\; margin: 0px 0px 1.25em\; padding: 0px\; direction: ltr\; font-family: myriad-pro\, sans-serif\; font-size: 16px\; line-height: 1.45\; text-rendering: optimizeLegibility\; letter-spacing: 0.48px\; color: rgb(84\, 102\, 108)\; background-color: rgb(255\, 255\, 255)\;">Put on your pointed hats and fairy wings and head out to the coast for a day of enchantment with the Seabrook Gnome &amp\; Fairy Festival on Saturday\, August 18\, 2018 from 11 a.m. to 4 p.m.</p>\n\n<p style="box-sizing: border-box\; margin: 0px 0px 1.25em\; padding: 0px\; direction: ltr\; font-family: myriad-pro\, sans-serif\; font-size: 16px\; line-height: 1.45\; text-rendering: optimizeLegibility\; letter-spacing: 0.48px\; color: rgb(84\, 102\, 108)\; background-color: rgb(255\, 255\, 255)\;">This magical day is all about the &ldquo\;wee folk&rdquo\; and getting up close with the natural world and encouraging active\, outdoor play.&nbsp\;</p>\n\n<p style="box-sizing: border-box\; margin: 0px 0px 1.25em\; padding: 0px\; direction: ltr\; font-family: myriad-pro\, sans-serif\; font-size: 16px\; line-height: 1.45\; text-rendering: optimizeLegibility\; letter-spacing: 0.48px\; color: rgb(84\, 102\, 108)\; background-color: rgb(255\, 255\, 255)\;">Children can forage in our enchanted forest for fairies\, help build a fairy village using all natural materials\, show off costumes in our gnome &amp\; fairy fashion show and have fun dancing to live music.&nbsp\;</p>\n\n<p style="box-sizing: border-box\; margin: 0px 0px 1.25em\; padding: 0px\; direction: ltr\; font-family: myriad-pro\, sans-serif\; font-size: 16px\; line-height: 1.45\; text-rendering: optimizeLegibility\; letter-spacing: 0.48px\; color: rgb(84\, 102\, 108)\; background-color: rgb(255\, 255\, 255)\;">There will be other enchanting activities such as face painting\, games\, crafts\, live animal encounters and concessions.&nbsp\;</p>\n\n<p style="box-sizing: border-box\; margin: 0px 0px 1.25em\; padding: 0px\; direction: ltr\; font-family: myriad-pro\, sans-serif\; font-size: 16px\; line-height: 1.45\; text-rendering: optimizeLegibility\; letter-spacing: 0.48px\; color: rgb(84\, 102\, 108)\; background-color: rgb(255\, 255\, 255)\;">Be sure to bring the whole family to stroll Gnome Trial and catch a glimpse of the fairies and gnomes wandering Seabrook&rsquo\;s enchanted forest.</p>\n\n<p style="box-sizing: border-box\; margin: 0px 0px 1.25em\; padding: 0px\; direction: ltr\; font-family: myriad-pro\, sans-serif\; font-size: 16px\; line-height: 1.45\; text-rendering: optimizeLegibility\; letter-spacing: 0.48px\; color: rgb(84\, 102\, 108)\; background-color: rgb(255\, 255\, 255)\;">Dress in costume and flaunt your wings in our fashion show\; mine for magic gems\; frolic in the enchanted forest for a fairy surprise\; build a gnome village\; enjoy games and crafts inspired by the natural world.</p>\n\n<p style="box-sizing: border-box\; margin: 0px 0px 1.25em\; padding: 0px\; direction: ltr\; font-family: myriad-pro\, sans-serif\; font-size: 16px\; line-height: 1.45\; text-rendering: optimizeLegibility\; letter-spacing: 0.48px\; color: rgb(84\, 102\, 108)\; background-color: rgb(255\, 255\, 255)\;">There&rsquo\;s a fairy good chance kids will love the festive activities set for Seabrook&rsquo\;s Gnome &amp\; Fairy Festival.</p>\n
LOCATION:Seabrook Pacific Beach\, WA
UID:e.26.10646
SEQUENCE:3
DTSTAMP:20260425T033442Z
URL:https://chamber.graysharbor.org/events/details/gnome-fairy-festival-10646
END:VEVENT

END:VCALENDAR
